Workbook

Sheet 20814-00-01
A1: 公 開 類 | J1: 編製機關 | K1: 金管會銀行局
A2: 月 報 | B2: 次月三十日前填報 | J2: 表 號 | K2: 20814-00-01
A3: 進出口信用狀金額統計
D5: 中華民國一一五年七月 | L5: 單位：千美元
A6: 項目別 | C6: 銀 行 別 | D6: 本月與上年同月比較 | G6: 本年累計與上年同期累計比較 | J6: 市場占有率(%)
D7: 本 月 | E7: 上年同月 | F7: 增減率(%) | G7: 本年累計 | H7: 上年同期累計 | I7: 增減率(%) | J7: 本 月 | L7: 本年累計
A8: (一)開發進口信 用狀 | C8: 總 計 | D8: 3289337 | E8: 2934200 | F8: 12.1 | G8: 22281227 | H8: 21441001 | I8: 3.92 | J8: 100 | L8: 100
C9: 本 國 銀 行 | D9: 3020243 | E9: 2765697 | F9: 9.2 | G9: 20866171 | H9: 20050529 | I9: 4.07 | J9: 91.82 | L9: 93.65
C10: 外國及大陸地區銀行在臺分行 | D10: 269094 | E10: 168503 | F10: 59.7 | G10: 1415056 | H10: 1390472 | I10: 1.77 | J10: 8.18 | L10: 6.35
A11: (二)通知出口信 用狀 | C11: 總 計 | D11: 3731322 | E11: 3233590 | F11: 15.39 | G11: 24662191 | H11: 22400808 | I11: 10.1 | J11: 100 | L11: 100
C12: 本 國 銀 行 | D12: 3555617 | E12: 3053651 | F12: 16.44 | G12: 23501340 | H12: 21409644 | I12: 9.77 | J12: 95.29 | L12: 95.29
C13: 外國及大陸地區銀行在臺分行 | D13: 175705 | E13: 179939 | F13: -2.35 | G13: 1160851 | H13: 991164 | I13: 17.12 | J13: 4.71 | L13: 4.71
A14: (三)辦理出口信 用狀貸款 | C14: 總 計 | D14: 31267 | E14: 30276 | F14: 3.27 | G14: 192342 | H14: 233919 | I14: -17.77 | J14: 100 | L14: 100
C15: 本 國 銀 行 | D15: 31267 | E15: 30276 | F15: 3.27 | G15: 192342 | H15: 233919 | I15: -17.77 | J15: 100 | L15: 100
C16: 外國及大陸地區銀行在臺分行 | D16: 0 | E16: 0 | F16: 0 | G16: 0 | H16: 0 | I16: 0 | J16: 0 | L16: 0
A17: (四)辦理出口信 用狀押匯 | C17: 總 計 | D17: 2529126 | E17: 2480224 | F17: 1.97 | G17: 16028849 | H17: 17264008 | I17: -7.15 | J17: 100 | L17: 100
C18: 本 國 銀 行 | D18: 2387625 | E18: 2347003 | F18: 1.73 | G18: 15077064 | H18: 16300241 | I18: -7.5 | J18: 94.41 | L18: 94.06
C19: 外國及大陸地區銀行在臺分行 | D19: 141501 | E19: 133221 | F19: 6.22 | G19: 951785 | H19: 963767 | I19: -1.24 | J19: 5.59 | L19: 5.94
A20: 填表 | D20: 審核 | F20: 業務主管人員 | H20: 機關首長 | L20: 中華民國115年 8月21日編製
F21: 主辦統計人員
A22: 資料來源：根據各銀行填報資料編製。
A23: 填表說明：本表編製1份自存，電子檔上載銀行局網站。

Sheet 20814-00-02(本國)
A1: ='20814-00-01'!A1 -> 公 開 類 | I1: 編製機關 | J1: ='20814-00-01'!K1 -> 金管會銀行局
A2: ='20814-00-01'!A2 -> 月 報 | B2: ='20814-00-01'!B2 -> 次月三十日前填報 | I2: 表 號 | J2: 20814-00-02
A3: 開發進口信用狀統計
C4: ='20814-00-01'!D5 -> 中華民國一一五年七月
C5: 1.本國銀行 | K5: 單位：千美元
A6: 銀 行 別 | C6: 本月與上年同月比較 | F6: 本年累計與上年同期累計比較 | I6: 市場占有率(%)
C7: 本 月 | D7: 上年同月 | E7: 增減率(%) | F7: 本年累計 | G7: 上年同期累計 | H7: 增減率(%) | I7: 本 月 | K7: 本年累計
A8: 總 計 | C8: 3020243 | D8: 2765697 | E8: 9.2 | F8: 20866171 | G8: 20050529 | H8: 4.07 | I8: 91.82 | K8: 93.65
A9: 臺灣銀行 | C9: 279843 | D9: 227831 | E9: 22.83 | F9: 1817211 | G9: 1471926 | H9: 23.46 | I9: 8.51 | K9: 8.16
A10: 臺灣土地銀行 | C10: 90016 | D10: 77015 | E10: 16.88 | F10: 541276 | G10: 581908 | H10: -6.98 | I10: 2.74 | K10: 2.43
A11: 合作金庫銀行 | C11: 305569 | D11: 206867 | E11: 47.71 | F11: 1526123 | G11: 1354217 | H11: 12.69 | I11: 9.29 | K11: 6.85
A12: 第一商業銀行 | C12: 318924 | D12: 376700 | E12: -15.34 | F12: 2318003 | G12: 2402790 | H12: -3.53 | I12: 9.7 | K12: 10.4
A13: 華南商業銀行 | C13: 223346 | D13: 293101 | E13: -23.8 | F13: 1634986 | G13: 1861923 | H13: -12.19 | I13: 6.79 | K13: 7.34
A14: 彰化商業銀行 | C14: 300891 | D14: 236026 | E14: 27.48 | F14: 1954557 | G14: 1695301 | H14: 15.29 | I14: 9.15 | K14: 8.77
A15: 上海商業儲蓄銀行 | C15: 129878 | D15: 81520 | E15: 59.32 | F15: 988498 | G15: 753307 | H15: 31.22 | I15: 3.95 | K15: 4.44
A16: 台北富邦銀行 | C16: 71867 | D16: 77001 | E16: -6.67 | F16: 415856 | G16: 484626 | H16: -14.19 | I16: 2.18 | K16: 1.87
A17: 國泰世華商業銀行 | C17: 118769 | D17: 77896 | E17: 52.47 | F17: 538554 | G17: 538796 | H17: -0.04 | I17: 3.61 | K17: 2.42
A18: 中國輸出入銀行 | C18: 0 | D18: 0 | E18: 0 | F18: 0 | G18: 0 | H18: 0 | I18: 0 | K18: 0
A19: 高雄銀行 | C19: 753 | D19: 6095 | E19: -87.65 | F19: 36486 | G19: 42510 | H19: -14.17 | I19: 0.02 | K19: 0.16
... A46: 樂天國際商業銀行 | C46: 0 | D46: 0 | E46: 0 | F46: 0 | G46: 0 | H46: 0 | I46: 0 | K46: 0
A52: 填表 | C52: 審核 | E52: 業務主管人員 | G52: 機關首長 | K52: ='20814-00-01'!L20 -> 中華民國115年 8月21日編製
E53: 主辦統計人員
A54: ='20814-00-01'!A22 -> 資料來源：根據各銀行填報資料編製。
A55: ='20814-00-01'!A23 -> 填表說明：本表編製1份自存，電子檔上載銀行局網站。

Sheet 20814-00-03(本國)
A1: ='20814-00-01'!A1 -> 公 開 類 | I1: 編製機關 | J1: ='20814-00-01'!K1 -> 金管會銀行局
A2: ='20814-00-01'!A2 -> 月 報 | B2: ='20814-00-01'!B2 -> 次月三十日前填報 | I2: 表 號 | J2: 20814-00-03
A3: 通知出口信用狀統計
C4: ='20814-00-01'!D5 -> 中華民國一一五年七月
C5: 1.本國銀行 | K5: 單位：千美元
A6: 銀 行 別 | C6: 本月與上年同月比較 | F6: 本年累計與上年同期累計比較 | I6: 市場占有率(%)
C7: 本 月 | D7: 上年同月 | E7: 增減率(%) | F7: 本年累計 | G7: 上年同期累計 | H7: 增減率(%) | I7: 本 月 | K7: 本年累計
A8: 總 計 | C8: 3555617 | D8: 3053651 | E8: 16.44 | F8: 23501340 | G8: 21409644 | H8: 9.77 | I8: 95.29 | K8: 95.29
A9: 臺灣銀行 | C9: 286424 | D9: 238024 | E9: 20.33 | F9: 1991125 | G9: 1815377 | H9: 9.68 | I9: 7.68 | K9: 8.07
A10: 臺灣土地銀行 | C10: 12475 | D10: 29816 | E10: -58.16 | F10: 82667 | G10: 201818 | H10: -59.04 | I10: 0.33 | K10: 0.34
A11: 合作金庫銀行 | C11: 320289 | D11: 320359 | E11: -0.02 | F11: 1777762 | G11: 1898234 | H11: -6.35 | I11: 8.58 | K11: 7.21
A12: 第一商業銀行 | C12: 92102 | D12: 124560 | E12: -26.06 | F12: 789945 | G12: 829613 | H12: -4.78 | I12: 2.47 | K12: 3.2
A13: 華南商業銀行 | C13: 198416 | D13: 197187 | E13: 0.62 | F13: 1205290 | G13: 1232364 | H13: -2.2 | I13: 5.32 | K13: 4.89
A14: 彰化商業銀行 | C14: 101463 | D14: 111463 | E14: -8.97 | F14: 724490 | G14: 712236 | H14: 1.72 | I14: 2.72 | K14: 2.94
A15: 上海商業儲蓄銀行 | C15: 148937 | D15: 132157 | E15: 12.7 | F15: 1118840 | G15: 968098 | H15: 15.57 | I15: 3.99 | K15: 4.54
A16: 台北富邦銀行 | C16: 25415 | D16: 25461 | E16: -0.18 | F16: 259683 | G16: 267010 | H16: -2.74 | I16: 0.68 | K16: 1.05
A17: 國泰世華商業銀行 | C17: 140071 | D17: 47121 | E17: 197.26 | F17: 696143 | G17: 332246 | H17: 109.53 | I17: 3.75 | K17: 2.82
A18: 中國輸出入銀行 | C18: 0 | D18: 111 | E18: -100 | F18: 1654 | G18: 1451 | H18: 13.99 | I18: 0 | K18: 0.01
A19: 高雄銀行 | C19: 2057 | D19: 4676 | E19: -56.01 | F19: 10694 | G19: 23160 | H19: -53.83 | I19: 0.06 | K19: 0.04
... A46: 樂天國際商業銀行 | C46: 0 | D46: 0 | E46: 0 | F46: 0 | G46: 0 | H46: 0 | I46: 0 | K46: 0
A52: 填表 | C52: 審核 | E52: 業務主管人員 | G52: 機關首長 | K52: ='20814-00-01'!L20 -> 中華民國115年 8月21日編製
E53: 主辦統計人員
A54: ='20814-00-01'!A22 -> 資料來源：根據各銀行填報資料編製。
A55: ='20814-00-01'!A23 -> 填表說明：本表編製1份自存，電子檔上載銀行局網站。

Sheet 20814-00-04(本國)
A1: ='20814-00-01'!A1 -> 公 開 類 | I1: 編製機關 | J1: ='20814-00-01'!K1 -> 金管會銀行局
A2: ='20814-00-01'!A2 -> 月 報 | B2: ='20814-00-01'!B2 -> 次月三十日前填報 | I2: 表 號 | J2: 20814-00-04
A3: 辦理出口信用狀貸款統計
C4: ='20814-00-01'!D5 -> 中華民國一一五年七月
C5: 1.本國銀行 | K5: 單位：千美元
A6: 銀 行 別 | C6: 本月與上年同月比較 | F6: 本年累計與上年同期累計比較 | I6: 市場占有率(%)
C7: 本 月 | D7: 上年同月 | E7: 增減率(%) | F7: 本年累計 | G7: 上年同期累計 | H7: 增減率(%) | I7: 本 月 | K7: 本年累計
A8: 總 計 | C8: 31267 | D8: 30276 | E8: 3.27 | F8: 192342 | G8: 233919 | H8: -17.77 | I8: 100 | K8: 100
A9: 臺灣銀行 | C9: 116 | D9: 396 | E9: -70.71 | F9: 2043 | G9: 1382 | H9: 47.83 | I9: 0.37 | K9: 1.06
A10: 臺灣土地銀行 | C10: 91 | D10: 4332 | E10: -97.9 | F10: 3850 | G10: 31674 | H10: -87.84 | I10: 0.29 | K10: 2
A11: 合作金庫銀行 | C11: 62 | D11: 3840 | E11: -98.39 | F11: 1380 | G11: 17233 | H11: -91.99 | I11: 0.2 | K11: 0.72
A12: 第一商業銀行 | C12: 3736 | D12: 2899 | E12: 28.87 | F12: 24198 | G12: 22085 | H12: 9.57 | I12: 11.95 | K12: 12.58
A13: 華南商業銀行 | C13: 113 | D13: 2276 | E13: -95.04 | F13: 809 | G13: 28511 | H13: -97.16 | I13: 0.36 | K13: 0.42
A14: 彰化商業銀行 | C14: 11702 | D14: 1702 | E14: 587.54 | F14: 51262 | G14: 16942 | H14: 202.57 | I14: 37.43 | K14: 26.65
A15: 上海商業儲蓄銀行 | C15: 2082 | D15: 1811 | E15: 14.96 | F15: 14823 | G15: 18315 | H15: -19.07 | I15: 6.66 | K15: 7.71
A16: 台北富邦銀行 | C16: 929 | D16: 810 | E16: 14.69 | F16: 12096 | G16: 21060 | H16: -42.56 | I16: 2.97 | K16: 6.29
A17: 國泰世華商業銀行 | C17: 2540 | D17: 4237 | E17: -40.05 | F17: 16249 | G17: 12979 | H17: 25.19 | I17: 8.12 | K17: 8.45
A18: 中國輸出入銀行 | C18: 0 | D18: 245 | E18: -100 | F18: 96 | G18: 1319 | H18: -92.72 | I18: 0 | K18: 0.05
A19: 高雄銀行 | C19: 309 | D19: 0 | E19: 0 | F19: 1258 | G19: 0 | H19: 0 | I19: 0.99 | K19: 0.65
... A46: 樂天國際商業銀行 | C46: 0 | D46: 0 | E46: 0 | F46: 0 | G46: 0 | H46: 0 | I46: 0 | K46: 0
A52: 填表 | C52: 審核 | E52: 業務主管人員 | G52: 機關首長 | K52: ='20814-00-01'!L20 -> 中華民國115年 8月21日編製
E53: 主辦統計人員
A54: ='20814-00-01'!A22 -> 資料來源：根據各銀行填報資料編製。
A55: ='20814-00-01'!A23 -> 填表說明：本表編製1份自存，電子檔上載銀行局網站。

Sheet 20814-00-05(本國)
A1: ='20814-00-01'!A1 -> 公 開 類 | I1: 編製機關 | J1: ='20814-00-01'!K1 -> 金管會銀行局
A2: ='20814-00-01'!A2 -> 月 報 | B2: ='20814-00-01'!B2 -> 次月三十日前填報 | I2: 表 號 | J2: 20814-00-05
A3: 辦理出口信用狀押匯統計
C4: ='20814-00-01'!D5 -> 中華民國一一五年七月
C5: 1.本國銀行 | K5: 單位：千美元
A6: 銀 行 別 | C6: 本月與上年同月比較 | F6: 本年累計與上年同期累計比較 | I6: 市場占有率(%)
C7: 本 月 | D7: 上年同月 | E7: 增減率(%) | F7: 本年累計 | G7: 上年同期累計 | H7: 增減率(%) | I7: 本 月 | K7: 本年累計
A8: 總 計 | C8: 2387625 | D8: 2347003 | E8: 1.73 | F8: 15077064 | G8: 16300241 | H8: -7.5 | I8: 94.41 | K8: 94.06
A9: 臺灣銀行 | C9: 238808 | D9: 170076 | E9: 40.41 | F9: 1287154 | G9: 1280852 | H9: 0.49 | I9: 9.44 | K9: 8.03
A10: 臺灣土地銀行 | C10: 6189 | D10: 5532 | E10: 11.88 | F10: 56006 | G10: 50198 | H10: 11.57 | I10: 0.24 | K10: 0.35
A11: 合作金庫銀行 | C11: 290021 | D11: 319592 | E11: -9.25 | F11: 1726425 | G11: 1763660 | H11: -2.11 | I11: 11.47 | K11: 10.77
A12: 第一商業銀行 | C12: 181390 | D12: 212410 | E12: -14.6 | F12: 1233463 | G12: 1357704 | H12: -9.15 | I12: 7.17 | K12: 7.7
A13: 華南商業銀行 | C13: 111246 | D13: 156875 | E13: -29.09 | F13: 870920 | G13: 1231618 | H13: -29.29 | I13: 4.4 | K13: 5.43
A14: 彰化商業銀行 | C14: 136841 | D14: 136592 | E14: 0.18 | F14: 896515 | G14: 956371 | H14: -6.26 | I14: 5.41 | K14: 5.59
A15: 上海商業儲蓄銀行 | C15: 145377 | D15: 123540 | E15: 17.68 | F15: 879836 | G15: 825065 | H15: 6.64 | I15: 5.75 | K15: 5.49
A16: 台北富邦銀行 | C16: 62649 | D16: 70749 | E16: -11.45 | F16: 444004 | G16: 508203 | H16: -12.63 | I16: 2.48 | K16: 2.77
A17: 國泰世華商業銀行 | C17: 72917 | D17: 65245 | E17: 11.76 | F17: 407973 | G17: 404608 | H17: 0.83 | I17: 2.88 | K17: 2.55
A18: 中國輸出入銀行 | C18: 0 | D18: 0 | E18: 0 | F18: 0 | G18: 0 | H18: 0 | I18: 0 | K18: 0
A19: 高雄銀行 | C19: 1735 | D19: 5041 | E19: -65.58 | F19: 23206 | G19: 21555 | H19: 7.66 | I19: 0.07 | K19: 0.14
... A46: 樂天國際商業銀行 | C46: 0 | D46: 0 | E46: 0 | F46: 0 | G46: 0 | H46: 0 | I46: 0 | K46: 0
A52: 填表 | C52: 審核 | E52: 業務主管人員 | G52: 機關首長 | K52: ='20814-00-01'!L20 -> 中華民國115年 8月21日編製
E53: 主辦統計人員
A54: ='20814-00-01'!A22 -> 資料來源：根據各銀行填報資料編製。
A55: ='20814-00-01'!A23 -> 填表說明：本表編製1份自存，電子檔上載銀行局網站。

Sheet 20814-00-02(外國)
A1: ='20814-00-01'!A1 -> 公 開 類 | I1: 編製機關 | J1: ='20814-00-01'!K1 -> 金管會銀行局
A2: ='20814-00-01'!A2 -> 月 報 | B2: ='20814-00-01'!B2 -> 次月三十日前填報 | I2: 表 號 | J2: 20814-00-02
A3: 開發進口信用狀統計
C4: ='20814-00-01'!D5 -> 中華民國一一五年七月
C5: 2.外國及大陸地區銀行在臺分行 | K5: 單位：千美元
A6: 銀 行 別 | C6: 本月與上年同月比較 | F6: 本年累計與上年同期累計比較 | I6: 市場占有率(%)
C7: 本 月 | D7: 上年同月 | E7: 增減率(%) | F7: 本年累計 | G7: 上年同期累計 | H7: 增減率(%) | I7: 本 月 | K7: 本年累計
A8: 總 計 | C8: 269094 | D8: 168503 | E8: 59.7 | F8: 1415056 | G8: 1390472 | H8: 1.77 | I8: 8.18 | K8: 6.35
A9: 日商瑞穗銀行 | C9: 108775 | D9: 80707 | E9: 34.78 | F9: 404865 | G9: 470386 | H9: -13.93 | I9: 3.31 | K9: 1.82
A10: 美國商業銀行 | C10: 1166 | D10: 482 | E10: 141.91 | F10: 6839 | G10: 6938 | H10: -1.43 | I10: 0.04 | K10: 0.03
A11: 泰國盤谷銀行 | C11: 45115 | D11: 35953 | E11: 25.48 | F11: 330464 | G11: 351304 | H11: -5.93 | I11: 1.37 | K11: 1.48
A12: 菲律賓首都銀行 | C12: 3330 | D12: 3680 | E12: -9.51 | F12: 72260 | G12: 9063 | H12: 697.31 | I12: 0.1 | K12: 0.32
A13: 美商美國紐約梅隆銀行 | C13: 0 | D13: 0 | E13: 0 | F13: 0 | G13: 0 | H13: 0 | I13: 0 | K13: 0
A14: 新加坡商大華銀行 | C14: 29898 | D14: 9466 | E14: 215.85 | F14: 113798 | G14: 55863 | H14: 103.71 | I14: 0.91 | K14: 0.51
A15: 美商道富銀行 | C15: 0 | D15: 0 | E15: 0 | F15: 0 | G15: 0 | H15: 0 | I15: 0 | K15: 0
A16: 法國興業銀行 | C16: 0 | D16: 0 | E16: 0 | F16: 0 | G16: 0 | H16: 0 | I16: 0 | K16: 0
A17: 德商德意志銀行 | C17: 0 | D17: 177 | E17: -100 | F17: 681 | G17: 1135 | H17: -40 | I17: 0 | K17: 0
A18: 香港東亞銀行 | C18: 0 | D18: 0 | E18: 0 | F18: 0 | G18: 0 | H18: 0 | I18: 0 | K18: 0
A19: 美商摩根大通銀行 | C19: 3896 | D19: 0 | E19: 0 | F19: 33862 | G19: 14247 | H19: 137.68 | I19: 0.12 | K19: 0.15
... A39: 大陸商中國建設銀行 | C39: 0 | D39: 0 | E39: 0 | F39: 0 | G39: 0 | H39: 0 | I39: 0 | K39: 0
A50: 填表 | C50: 審核 | E50: 業務主管人員 | G50: 機關首長 | K50: ='20814-00-01'!L20 -> 中華民國115年 8月21日編製
E51: 主辦統計人員
A52: ='20814-00-01'!A22 -> 資料來源：根據各銀行填報資料編製。
A53: ='20814-00-01'!A23 -> 填表說明：本表編製1份自存，電子檔上載銀行局網站。

Sheet 20814-00-03(外國)
A1: ='20814-00-01'!A1 -> 公 開 類 | I1: 編製機關 | J1: ='20814-00-01'!K1 -> 金管會銀行局
A2: ='20814-00-01'!A2 -> 月 報 | B2: ='20814-00-01'!B2 -> 次月三十日前填報 | I2: 表 號 | J2: 20814-00-03
A3: 通知出口信用狀統計
C4: ='20814-00-01'!D5 -> 中華民國一一五年七月
C5: 2.外國及大陸地區銀行在臺分行 | K5: 單位：千美元
A6: 銀 行 別 | C6: 本月與上年同月比較 | F6: 本年累計與上年同期累計比較 | I6: 市場占有率(%)
C7: 本 月 | D7: 上年同月 | E7: 增減率(%) | F7: 本年累計 | G7: 上年同期累計 | H7: 增減率(%) | I7: 本 月 | K7: 本年累計
A8: 總 計 | C8: 175705 | D8: 179939 | E8: -2.35 | F8: 1160851 | G8: 991164 | H8: 17.12 | I8: 4.71 | K8: 4.71
A9: 日商瑞穗銀行 | C9: 81499 | D9: 101522 | E9: -19.72 | F9: 639506 | G9: 443650 | H9: 44.15 | I9: 2.18 | K9: 2.59
A10: 美國商業銀行 | C10: 25031 | D10: 29278 | E10: -14.51 | F10: 125170 | G10: 174267 | H10: -28.17 | I10: 0.67 | K10: 0.51
A11: 泰國盤谷銀行 | C11: 2352 | D11: 3075 | E11: -23.51 | F11: 15771 | G11: 22778 | H11: -30.76 | I11: 0.06 | K11: 0.06
A12: 菲律賓首都銀行 | C12: 0 | D12: 0 | E12: 0 | F12: 16 | G12: 0 | H12: 0 | I12: 0 | K12: 0
A13: 美商美國紐約梅隆銀行 | C13: 2744 | D13: 4501 | E13: -39.04 | F13: 24811 | G13: 20069 | H13: 23.63 | I13: 0.07 | K13: 0.1
A14: 新加坡商大華銀行 | C14: 1193 | D14: 396 | E14: 201.26 | F14: 4035 | G14: 3665 | H14: 10.1 | I14: 0.03 | K14: 0.02
A15: 美商道富銀行 | C15: 0 | D15: 0 | E15: 0 | F15: 0 | G15: 0 | H15: 0 | I15: 0 | K15: 0
A16: 法國興業銀行 | C16: 0 | D16: 0 | E16: 0 | F16: 0 | G16: 0 | H16: 0 | I16: 0 | K16: 0
A17: 德商德意志銀行 | C17: 1810 | D17: 1818 | E17: -0.44 | F17: 25678 | G17: 27845 | H17: -7.78 | I17: 0.05 | K17: 0.1
A18: 香港東亞銀行 | C18: 0 | D18: 0 | E18: 0 | F18: 0 | G18: 0 | H18: 0 | I18: 0 | K18: 0
A19: 美商摩根大通銀行 | C19: 2193 | D19: 3216 | E19: -31.81 | F19: 14938 | G19: 30568 | H19: -51.13 | I19: 0.06 | K19: 0.06
... A39: 大陸商中國建設銀行 | C39: 30 | D39: 0 | E39: 0 | F39: 49 | G39: 49 | H39: 0 | I39: 0 | K39: 0
A50: 填表 | C50: 審核 | E50: 業務主管人員 | G50: 機關首長 | K50: ='20814-00-01'!L20 -> 中華民國115年 8月21日編製
E51: 主辦統計人員
A52: ='20814-00-01'!A22 -> 資料來源：根據各銀行填報資料編製。
A53: ='20814-00-01'!A23 -> 填表說明：本表編製1份自存，電子檔上載銀行局網站。

Sheet 20814-00-04(外國)
A1: ='20814-00-01'!A1 -> 公 開 類 | I1: 編製機關 | J1: ='20814-00-01'!K1 -> 金管會銀行局
A2: ='20814-00-01'!A2 -> 月 報 | B2: ='20814-00-01'!B2 -> 次月三十日前填報 | I2: 表 號 | J2: 20814-00-04
A3: 辦理出口信用狀貸款統計
C4: ='20814-00-01'!D5 -> 中華民國一一五年七月
C5: 2.外國及大陸地區銀行在臺分行 | K5: 單位：千美元
A6: 銀 行 別 | C6: 本月與上年同月比較 | F6: 本年累計與上年同期累計比較 | I6: 市場占有率(%)
C7: 本 月 | D7: 上年同月 | E7: 增減率(%) | F7: 本年累計 | G7: 上年同期累計 | H7: 增減率(%) | I7: 本 月 | K7: 本年累計
A8: 總 計 | C8: 0 | D8: 0 | E8: 0 | F8: 0 | G8: 0 | H8: 0 | I8: 0 | K8: 0
A9: 日商瑞穗銀行 | C9: 0 | D9: 0 | E9: 0 | F9: 0 | G9: 0 | H9: 0 | I9: 0 | K9: 0
A10: 美國商業銀行 | C10: 0 | D10: 0 | E10: 0 | F10: 0 | G10: 0 | H10: 0 | I10: 0 | K10: 0
A11: 泰國盤谷銀行 | C11: 0 | D11: 0 | E11: 0 | F11: 0 | G11: 0 | H11: 0 | I11: 0 | K11: 0
A12: 菲律賓首都銀行 | C12: 0 | D12: 0 | E12: 0 | F12: 0 | G12: 0 | H12: 0 | I12: 0 | K12: 0
A13: 美商美國紐約梅隆銀行 | C13: 0 | D13: 0 | E13: 0 | F13: 0 | G13: 0 | H13: 0 | I13: 0 | K13: 0
A14: 新加坡商大華銀行 | C14: 0 | D14: 0 | E14: 0 | F14: 0 | G14: 0 | H14: 0 | I14: 0 | K14: 0
A15: 美商道富銀行 | C15: 0 | D15: 0 | E15: 0 | F15: 0 | G15: 0 | H15: 0 | I15: 0 | K15: 0
A16: 法國興業銀行 | C16: 0 | D16: 0 | E16: 0 | F16: 0 | G16: 0 | H16: 0 | I16: 0 | K16: 0
A17: 德商德意志銀行 | C17: 0 | D17: 0 | E17: 0 | F17: 0 | G17: 0 | H17: 0 | I17: 0 | K17: 0
A18: 香港東亞銀行 | C18: 0 | D18: 0 | E18: 0 | F18: 0 | G18: 0 | H18: 0 | I18: 0 | K18: 0
A19: 美商摩根大通銀行 | C19: 0 | D19: 0 | E19: 0 | F19: 0 | G19: 0 | H19: 0 | I19: 0 | K19: 0
... A39: 大陸商中國建設銀行 | C39: 0 | D39: 0 | E39: 0 | F39: 0 | G39: 0 | H39: 0 | I39: 0 | K39: 0
A50: 填表 | C50: 審核 | E50: 業務主管人員 | G50: 機關首長 | K50: ='20814-00-01'!L20 -> 中華民國115年 8月21日編製
E51: 主辦統計人員
A52: ='20814-00-01'!A22 -> 資料來源：根據各銀行填報資料編製。
A53: ='20814-00-01'!A23 -> 填表說明：本表編製1份自存，電子檔上載銀行局網站。

Sheet 20814-00-05(外國)
A1: ='20814-00-01'!A1 -> 公 開 類 | I1: 編製機關 | J1: ='20814-00-01'!K1 -> 金管會銀行局
A2: ='20814-00-01'!A2 -> 月 報 | B2: ='20814-00-01'!B2 -> 次月三十日前填報 | I2: 表 號 | J2: 20814-00-05
A3: 辦理出口信用狀押匯統計
C4: ='20814-00-01'!D5 -> 中華民國一一五年七月
C5: 2.外國及大陸地區銀行在臺分行 | K5: 單位：千美元
A6: 銀 行 別 | C6: 本月與上年同月比較 | F6: 本年累計與上年同期累計比較 | I6: 市場占有率(%)
C7: 本 月 | D7: 上年同月 | E7: 增減率(%) | F7: 本年累計 | G7: 上年同期累計 | H7: 增減率(%) | I7: 本 月 | K7: 本年累計
A8: 總 計 | C8: 141501 | D8: 133221 | E8: 6.22 | F8: 951785 | G8: 963767 | H8: -1.24 | I8: 5.59 | K8: 5.94
A9: 日商瑞穗銀行 | C9: 37712 | D9: 37891 | E9: -0.47 | F9: 268447 | G9: 248743 | H9: 7.92 | I9: 1.49 | K9: 1.67
A10: 美國商業銀行 | C10: 16367 | D10: 13302 | E10: 23.04 | F10: 100673 | G10: 110423 | H10: -8.83 | I10: 0.65 | K10: 0.63
A11: 泰國盤谷銀行 | C11: 7659 | D11: 5746 | E11: 33.29 | F11: 54794 | G11: 52152 | H11: 5.07 | I11: 0.3 | K11: 0.34
A12: 菲律賓首都銀行 | C12: 0 | D12: 0 | E12: 0 | F12: 0 | G12: 0 | H12: 0 | I12: 0 | K12: 0
A13: 美商美國紐約梅隆銀行 | C13: 0 | D13: 0 | E13: 0 | F13: 0 | G13: 0 | H13: 0 | I13: 0 | K13: 0
A14: 新加坡商大華銀行 | C14: 986 | D14: 0 | E14: 0 | F14: 6674 | G14: 6101 | H14: 9.39 | I14: 0.04 | K14: 0.04
A15: 美商道富銀行 | C15: 0 | D15: 0 | E15: 0 | F15: 0 | G15: 0 | H15: 0 | I15: 0 | K15: 0
A16: 法國興業銀行 | C16: 0 | D16: 0 | E16: 0 | F16: 0 | G16: 0 | H16: 0 | I16: 0 | K16: 0
A17: 德商德意志銀行 | C17: 1495 | D17: 837 | E17: 78.61 | F17: 10422 | G17: 10040 | H17: 3.8 | I17: 0.06 | K17: 0.07
A18: 香港東亞銀行 | C18: 0 | D18: 0 | E18: 0 | F18: 0 | G18: 0 | H18: 0 | I18: 0 | K18: 0
A19: 美商摩根大通銀行 | C19: 0 | D19: 0 | E19: 0 | F19: 1545 | G19: 1638 | H19: -5.68 | I19: 0 | K19: 0.01
... A39: 大陸商中國建設銀行 | C39: 0 | D39: 0 | E39: 0 | F39: 0 | G39: 0 | H39: 0 | I39: 0 | K39: 0
A50: 填表 | C50: 審核 | E50: 業務主管人員 | G50: 機關首長 | K50: ='20814-00-01'!L20 -> 中華民國115年 8月21日編製
E51: 主辦統計人員
A52: ='20814-00-01'!A22 -> 資料來源：根據各銀行填報資料編製。
A53: ='20814-00-01'!A23 -> 填表說明：本表編製1份自存，電子檔上載銀行局網站。

Sheet 20814-00-06
A1: ='20814-00-01'!A1 -> 公 開 類 | M1: 編製機關 | N1: ='20814-00-01'!K1 -> 金管會銀行局
A2: ='20814-00-01'!A2 -> 月 報 | B2: ='20814-00-01'!B2 -> 次月三十日前填報 | M2: 表 號 | N2: 20814-00-06
A3: 通知出口信用狀貨品別統計
C5: ='20814-00-01'!D5 -> 中華民國一一五年七月 | O5: 單位：千美元
A6: 項 目 別 | C6: 總 計 | D6: 礦產品 | E6: 化學品 | F6: 塑膠、 橡膠及 其製品 | G6: 紡織品 | H6: 基本金屬 及 其製品 | I6: 電子零組件 | J6: 機械 | K6: 電機產品 | L6: 資 通 與 視聽產品 | M6: 運輸工具 | N6: 光 學 及 精密儀器 | O6: 其 他
A7: 本 月 金 額 | C7: 3731322 | D7: 701825 | E7: 492048 | F7: 172188 | G7: 107322 | H7: 500575 | I7: 625051 | J7: 168741 | K7: 21484 | L7: 91048 | M7: 29622 | N7: 14822 | O7: 806596
A8: 分 配 比 (%) | C8: 100 | D8: 18.81 | E8: 13.19 | F8: 4.61 | G8: 2.88 | H8: 13.42 | I8: 16.75 | J8: 4.52 | K8: 0.58 | L8: 2.44 | M8: 0.79 | N8: 0.4 | O8: 21.62
A9: 上 月 金 額 | C9: 3988952 | D9: 1123783 | E9: 422024 | F9: 180483 | G9: 106204 | H9: 502938 | I9: 739150 | J9: 99461 | K9: 27728 | L9: 63289 | M9: 61281 | N9: 8358 | O9: 654253
A10: 月 增 減 率 (%) | C10: -6.46 | D10: -37.55 | E10: 16.59 | F10: -4.6 | G10: 1.05 | H10: -0.47 | I10: -15.44 | J10: 69.66 | K10: -22.52 | L10: 43.86 | M10: -51.66 | N10: 77.34 | O10: 23.29
A11: 本 年 累 計 金 額 | C11: 24662191 | D11: 3759391 | E11: 3015313 | F11: 975572 | G11: 746420 | H11: 3201914 | I11: 3924826 | J11: 991426 | K11: 141216 | L11: 607411 | M11: 278855 | N11: 74254 | O11: 6945593
A12: 分 配 比 (%) | C12: 100 | D12: 15.24 | E12: 12.23 | F12: 3.96 | G12: 3.03 | H12: 12.98 | I12: 15.91 | J12: 4.02 | K12: 0.57 | L12: 2.46 | M12: 1.13 | N12: 0.3 | O12: 28.16
A13: 填表 | D13: 審核 | F13: 業務主管人員 | I13: 機關首長 | O13: ='20814-00-01'!L20 -> 中華民國115年 8月21日編製
F14: 主辦統計人員
A15: ='20814-00-01'!A22 -> 資料來源：根據各銀行填報資料編製。
A16: 填表說明：1.本表編製1份自存，電子檔上載銀行局網站。 2.115年1月起適用修訂後之貨品別分類。
