Workbook
Name Print_Area: '10-1'!$A$1:$K$35
Name Print_Area: '10-1(續一)'!$A$1:$K$35
Name Print_Area: '10-1(續七)'!$A$1:$K$33
Name Print_Area: '10-1(續九)'!$A$1:$K$34
Name Print_Area: '10-1(續二)'!$A$1:$K$33
Name Print_Area: '10-1(續二十)'!$A$1:$L$34
Name Print_Area: '10-1(續二十一完)'!$A$1:$L$34
Name Print_Area: '10-1(續八)'!$A$1:$K$34
Name Print_Area: '10-1(續十)'!$A$1:$K$33
Name Print_Area: '10-1(續十一)'!$A$1:$K$33
Name Print_Area: '10-1(續十七)'!$A$1:$L$35
Name Print_Area: '10-1(續十九)'!$A$1:$L$34
Name Print_Area: '10-1(續十二)'!$A$1:$K$33
Name Print_Area: '10-1(續十八)'!$A$1:$L$35
Name Print_Area: '10-1(續十三)'!$A$1:$K$33
Name Print_Area: '10-1(續十五)'!$A$1:$K$35
Name Print_Area: '10-1(續十六)'!$A$1:$K$35
Name Print_Area: '10-1(續十四)'!$A$1:$K$34
Name Print_Area: '10-1(續三)'!$A$1:$K$33
Name Print_Area: '10-1(續五)'!$A$1:$K$33
Name Print_Area: '10-1(續六)'!$A$1:$K$33
Name Print_Area: '10-1(續四)'!$A$1:$K$33
Name 外部資料_1: '10-1'!$A$1:$K$38
Name 外部資料_1: '10-1(續一)'!$A$1:$K$39
Name 外部資料_1: '10-1(續七)'!$A$1:$K$39
Name 外部資料_1: '10-1(續九)'!$A$1:$K$37
Name 外部資料_1: '10-1(續二)'!$A$1:$K$39
Name 外部資料_1: '10-1(續二十)'!$A$1:$L$41
Name 外部資料_1: '10-1(續二十一完)'!$A$1:$L$41
Name 外部資料_1: '10-1(續八)'!$A$1:$K$38
Name 外部資料_1: '10-1(續十)'!$A$1:$K$36
Name 外部資料_1: '10-1(續十一)'!$A$1:$K$37
Name 外部資料_1: '10-1(續十七)'!$A$1:$L$41
Name 外部資料_1: '10-1(續十九)'!$A$1:$L$41
Name 外部資料_1: '10-1(續十二)'!$A$1:$K$38
Name 外部資料_1: '10-1(續十八)'!$A$1:$L$41
Name 外部資料_1: '10-1(續十三)'!$A$1:$K$38
Name 外部資料_1: '10-1(續十五)'!$A$1:$K$41
Name 外部資料_1: '10-1(續十六)'!$A$1:$K$41
Name 外部資料_1: '10-1(續十四)'!$A$1:$K$38
Name 外部資料_1: '10-1(續三)'!$A$1:$K$39
Name 外部資料_1: '10-1(續五)'!$A$1:$K$39
Name 外部資料_1: '10-1(續六)'!$A$1:$K$39
Name 外部資料_1: '10-1(續四)'!$A$1:$K$39

Sheet 10-1
A1: 10-1 金融機構資產負債簡表
A2: 10-1 Abridged Balance Sheet
A3: （1）本國銀行（全行）Domestic Banks (All Branches)
D4: 民國115年 7月底 | F4: End of July 2026 | K4: 單位：新臺幣百萬元 NT$ Million
A5: 資產別 | B5: 資產總額 | C5: 現金及 約當現金 | D5: 存放央行及拆借銀行同業 | E5: 透過損益按公允價值衡量之金融資產 | F5: 透過其他綜合損益按公允價值衡量之金融資產 | H5: 按攤銷後成本衡量之債務工具投資 | I5: 應收款項 | J5: 透支、貼現 | K5: 其他資產
A6: by Asset | J6: 及放款
A7: 銀行別 | B7: Total Assets | C7: Cash and Alike Equivalent Cash | D7: Deposits with CBC & Claims on Other Banks | E7: Financial Assets at Fair Value through Profit or Loss | F7: Financial Assets Measured at Fair Value through Other Comprehensive Income | H7: Debt Instrument Investments Measured at Amortized Cost | I7: Amounts Receivable | J7: Overdrafts, Discount and Loans | K7: Other Assets
A8: by Bank
A9: 總 計 | B9: 82509297 | C9: 1125749 | D9: 6633452 | E9: 3990584 | F9: 8541761 | G9: 0 | H9: 9898357 | I9: 1675838 | J9: 48799247 | K9: 1844308
A10: Total
A11: 臺灣銀行 # | B11: 7580967 | C11: 99415 | D11: 543085 | E11: 797313 | F11: 1739720 | G11: 0 | H11: 235483 | I11: 57603 | J11: 3884098 | K11: 224251
A12: Bank of Taiwan
A13: 臺灣土地銀行 | B13: 3893915 | C13: 27121 | D13: 263784 | E13: 7843 | F13: 353112 | G13: 0 | H13: 566034 | I13: 18887 | J13: 2629656 | K13: 27478
A14: Land Bank of Taiwan
A15: 合作金庫商業銀行 # | B15: 5154902 | C15: 80361 | D15: 438767 | E15: 149921 | F15: 498554 | G15: 0 | H15: 681851 | I15: 28830 | J15: 3258384 | K15: 18232
A16: Taiwan Cooperative Bank
A17: 第一商業銀行 # | B17: 5214440 | C17: 69814 | D17: 308553 | E17: 215076 | F17: 422690 | G17: 0 | H17: 1109307 | I17: 55501 | J17: 3010167 | K17: 23331
A18: First Commercial Bank
A20: 負債及權益 | B20: 負債及 權益 | C20: 央行、銀行同業存款及融資 | D20: 郵匯轉存款 | E20: 存款及匯款 | F20: 金融債券 | G20: 其他負債 | H20: 權益 Equities
A21: Liabilities & Equities
A22: 銀行別 by Bank | B22: Liabilities & Equities | C22: Due to the CBC & Other Banks | D22: Deposit Replaced by the Taiwan Post Co. | E22: Deposits and Remittances | F22: Bank Debentures | G22: Other Liabilities | I22: 股 本 | J22: 資本公積 | K22: 保留盈餘
I23: Capital Stock | J23: Reserve Fund | K23: Retained Earnings
A24: 總 計 | B24: 82509297 | C24: 3553698 | D24: 1541962 | E24: 65442159 | F24: 954503 | G24: 5201972 | H24: 5815002 | I24: 2612891 | J24: 577117 | K24: 2301540
A25: Total
A26: 臺灣銀行 # | B26: 7580967 | C26: 254906 | D26: 125077 | E26: 5534254 | F26: 3000 | G26: 1075841 | H26: 587889 | I26: 109000 | J26: 108455 | K26: 217742
A27: Bank of Taiwan
A28: 臺灣土地銀行 | B28: 3893915 | C28: 217571 | D28: 388860 | E28: 2866523 | F28: 71400 | G28: 86503 | H28: 263059 | I28: 86200 | J28: 21749 | K28: 128931
A29: Land Bank of Taiwan
A30: 合作金庫商業銀行 # | B30: 5154902 | C30: 356345 | D30: 185596 | E30: 4146315 | F30: 59240 | G30: 92632 | H30: 314775 | I30: 141161 | J30: 58769 | K30: 104943
A31: Taiwan Cooperative Bank
A32: 第一商業銀行 # | B32: 5214440 | C32: 384765 | D32: 75000 | E32: 4173652 | F32: 57300 | G32: 204884 | H32: 318839 | I32: 125543 | J32: 34470 | K32: 127023
A33: First Commercial Bank
A34: 資料來源：金融機構申報資料（自結數）。
A35: 說 明：#係金融控股公司之子公司。

Sheet 10-1(續一)
A1: 10-1 金融機構資產負債簡表（續一）
A2: 10-1 Abridged Balance Sheet（Cont.1）
A3: （1）本國銀行（全行）Domestic Banks (All Branches)
D4: ='10-1'!D4:E4 -> 民國115年 7月底 | F4: ='10-1'!F4:G4 -> End of July 2026 | K4: 單位：新臺幣百萬元 NT$ Million
A5: 資產別 | B5: 資產總額 | C5: 現金及 約當現金 | D5: 存放央行及拆借銀行同業 | E5: 透過損益按公允價值衡量之金融資產 | F5: 透過其他綜合損益按公允價值衡量之金融資產 | H5: 按攤銷後成本衡量之債務工具投資 | I5: 應收款項 | J5: 透支、貼現 | K5: 其他資產
A6: by Asset | J6: 及放款
A7: 銀行別 | B7: Total Assets | C7: Cash and Alike Equivalent Cash | D7: Deposits with CBC & Claims on Other Banks | E7: Financial Assets at Fair Value through Profit or Loss | F7: Financial Assets Measured at Fair Value through Other Comprehensive Income | H7: Debt Instrument Investments Measured at Amortized Cost | I7: Amounts Receivable | J7: Overdrafts, Discount and Loans | K7: Other Assets
A8: by Bank
A9: 華南商業銀行 # | B9: 4537613 | C9: 32143 | D9: 308810 | E9: 216160 | F9: 383645 | G9: 0 | H9: 848142 | I9: 62042 | J9: 2657915 | K9: 28756
A10: Hua Nan Commercial Bank, Ltd.
A11: 彰化商業銀行 | B11: 3589635 | C11: 34619 | D11: 231326 | E11: 123451 | F11: 307556 | G11: 0 | H11: 573450 | I11: 28406 | J11: 2254505 | K11: 36321
A12: Chang Hwa Commercial Bank
A13: 上海商業儲蓄銀行 | B13: 1670505 | C13: 18834 | D13: 98673 | E13: 3743 | F13: 276730 | G13: 0 | H13: 154354 | I13: 17834 | J13: 943439 | K13: 156897
A14: The Shanghai Commercial & Savings Bank, Ltd.
A15: 台北富邦銀行 # | B15: 5010716 | C15: 60138 | D15: 474037 | E15: 257528 | F15: 227286 | G15: 0 | H15: 875079 | I15: 140654 | J15: 2827967 | K15: 148028
A16: Taipei Fubon Commercial Bank Co., Ltd
A17: 國泰世華商業銀行 # | B17: 5247365 | C17: 74206 | D17: 413108 | E17: 285615 | F17: 425520 | G17: 0 | H17: 599308 | I17: 180213 | J17: 3179363 | K17: 90033
A18: Cathay United Bank
A20: 負債及權益 | B20: 負債及 權益 | C20: 央行、銀行同業存款及融資 | D20: 郵匯轉存款 | E20: 存款及匯款 | F20: 金融債券 | G20: 其他負債 | H20: 權益 Equities
A21: Liabilities & Equities
A22: 銀行別 by Bank | B22: Liabilities & Equities | C22: Due to the CBC & Other Banks | D22: Deposit Replaced by the Taiwan Post Co. | E22: Deposits and Remittances | F22: Bank Debentures | G22: Other Liabilities | I22: 股 本 | J22: 資本公積 | K22: 保留盈餘
I23: Capital Stock | J23: Reserve Fund | K23: Retained Earnings
A24: 華南商業銀行 # | B24: 4537613 | C24: 291352 | D24: 90134 | E24: 3616097 | F24: 46000 | G24: 238218 | H24: 255811 | I24: 106517 | J24: 37763 | K24: 111469
A25: Hua Nan Commercial Bank, Ltd.
A26: 彰化商業銀行 | B26: 3589635 | C26: 237594 | D26: 200110 | E26: 2764972 | F26: 42773 | G26: 116898 | H26: 227287 | I26: 120602 | J26: 0 | K26: 88899
A27: Chang Hwa Commercial Bank
A28: 上海商業儲蓄銀行 | B28: 1670505 | C28: 37791 | D28: 1222 | E28: 1274076 | F28: 54370 | G28: 90172 | H28: 212875 | I28: 48616 | J28: 27867 | K28: 122038
A29: The Shanghai Commercial & Savings Bank, Ltd.
A30: 台北富邦銀行 # | B30: 5010716 | C30: 196011 | D30: 24034 | E30: 4085581 | F30: 124177 | G30: 248338 | H30: 332576 | I30: 172146 | J30: 1712 | K30: 140603
A31: Taipei Fubon Commercial Bank Co., Ltd
A32: 國泰世華商業銀行 # | B32: 5247365 | C32: 167825 | D32: 17709 | E32: 4403210 | F32: 18600 | G32: 308833 | H32: 331188 | I32: 137626 | J32: 38869 | K32: 152883
A33: Cathay United Bank
A34: Source：Provided by individual institution.
A35: Note：# refer to the subsidary of financial holding companies.

Sheet 10-1(續二)
A1: 10-1 金融機構資產負債簡表（續二）
A2: 10-1 Abridged Balance Sheet（Cont.2）
A3: （1）本國銀行（全行）Domestic Banks (All Branches)
D4: ='10-1'!D4:E4 -> 民國115年 7月底 | F4: ='10-1'!F4:G4 -> End of July 2026 | K4: 單位：新臺幣百萬元 NT$ Million
A5: 資產別 | B5: 資產總額 | C5: 現金及 約當現金 | D5: 存放央行及拆借銀行同業 | E5: 透過損益按公允價值衡量之金融資產 | F5: 透過其他綜合損益按公允價值衡量之金融資產 | H5: 按攤銷後成本衡量之債務工具投資 | I5: 應收款項 | J5: 透支、貼現 | K5: 其他資產
A6: by Asset | J6: 及放款
A7: 銀行別 | B7: Total Assets | C7: Cash and Alike Equivalent Cash | D7: Deposits with CBC & Claims on Other Banks | E7: Financial Assets at Fair Value through Profit or Loss | F7: Financial Assets Measured at Fair Value through Other Comprehensive Income | H7: Debt Instrument Investments Measured at Amortized Cost | I7: Amounts Receivable | J7: Overdrafts, Discount and Loans | K7: Other Assets
A8: by Bank
A9: 中國輸出入銀行 | B9: 273218 | C9: 430 | D9: 1440 | E9: 162 | F9: 522 | G9: 0 | H9: 7600 | I9: 1379 | J9: 263575 | K9: -1890
A10: The Export-Import Bank of The Republic of China
A11: 高雄銀行 | B11: 350532 | C11: 3409 | D11: 20510 | E11: 4244 | F11: 29575 | G11: 0 | H11: 52741 | I11: 2254 | J11: 226109 | K11: 11690
A12: Bank of Kaohsiung
A13: 兆豐國際商業銀行 # | B13: 4744815 | C13: 214032 | D13: 650725 | E13: 71264 | F13: 660336 | G13: 0 | H13: 392084 | I13: 59608 | J13: 2681623 | K13: 15143
A14: Mega International Commercial Bank Co., Ltd.
A15: 花旗(台灣)商業銀行 | B15: 624991 | C15: 41944 | D15: 318453 | E15: 13698 | F15: 126881 | G15: 0 | H15: 0 | I15: 9839 | J15: 56043 | K15: 58132
A16: Citibank Taiwan Ltd.
A17: 王道商業銀行 | B17: 452193 | C17: 1412 | D17: 34812 | E17: 26786 | F17: 59270 | G17: 0 | H17: 32272 | I17: 4407 | J17: 252218 | K17: 41016
A18: O-Bank Co., Ltd.
A20: 負債及權益 | B20: 負債及 權益 | C20: 央行、銀行同業存款及融資 | D20: 郵匯轉存款 | E20: 存款及匯款 | F20: 金融債券 | G20: 其他負債 | H20: 權益 Equities
A21: Liabilities & Equities
A22: 銀行別 by Bank | B22: Liabilities & Equities | C22: Due to the CBC & Other Banks | D22: Deposit Replaced by the Taiwan Post Co. | E22: Deposits and Remittances | F22: Bank Debentures | G22: Other Liabilities | I22: 股 本 | J22: 資本公積 | K22: 保留盈餘
I23: Capital Stock | J23: Reserve Fund | K23: Retained Earnings
A24: 中國輸出入銀行 | B24: 273218 | C24: 113341 | D24: 0 | E24: 0 | F24: 2800 | G24: 108528 | H24: 48549 | I24: 37833 | J24: 0 | K24: 9553
A25: The Export-Import Bank of The Republic of China
A26: 高雄銀行 | B26: 350532 | C26: 16701 | D26: 9 | E26: 280055 | F26: 6827 | G26: 19180 | H26: 27760 | I26: 18983 | J26: 1344 | K26: 5418
A27: Bank of Kaohsiung
A28: 兆豐國際商業銀行 # | B28: 4744815 | C28: 551344 | D28: 70002 | E28: 3511936 | F28: 30200 | G28: 198361 | H28: 382973 | I28: 100000 | J28: 72805 | K28: 190484
A29: Mega International Commercial Bank Co., Ltd.
A30: 花旗(台灣)商業銀行 | B30: 624991 | C30: 27087 | D30: 0 | E30: 474679 | F30: 0 | G30: 53370 | H30: 69856 | I30: 34433 | J30: 0 | K30: 35613
A31: Citibank Taiwan Ltd.
A32: 王道商業銀行 | B32: 452193 | C32: 16786 | D32: 12000 | E32: 321023 | F32: 14660 | G32: 43034 | H32: 44689 | I32: 30554 | J32: 581 | K32: 14351
A33: O-Bank Co., Ltd.

Sheet 10-1(續三)
A1: 10-1 金融機構資產負債簡表（續三）
A2: 10-1 Abridged Balance Sheet（Cont.3）
A3: （1）本國銀行（全行）Domestic Banks (All Branches)
D4: ='10-1'!D4:E4 -> 民國115年 7月底 | F4: ='10-1'!F4:G4 -> End of July 2026 | K4: 單位：新臺幣百萬元 NT$ Million
A5: 資產別 | B5: 資產總額 | C5: 現金及 約當現金 | D5: 存放央行及拆借銀行同業 | E5: 透過損益按公允價值衡量之金融資產 | F5: 透過其他綜合損益按公允價值衡量之金融資產 | H5: 按攤銷後成本衡量之債務工具投資 | I5: 應收款項 | J5: 透支、貼現 | K5: 其他資產
A6: by Asset | J6: 及放款
A7: 銀行別 | B7: Total Assets | C7: Cash and Alike Equivalent Cash | D7: Deposits with CBC & Claims on Other Banks | E7: Financial Assets at Fair Value through Profit or Loss | F7: Financial Assets Measured at Fair Value through Other Comprehensive Income | H7: Debt Instrument Investments Measured at Amortized Cost | I7: Amounts Receivable | J7: Overdrafts, Discount and Loans | K7: Other Assets
A8: by Bank
A9: 臺灣中小企業銀行 | B9: 2574642 | C9: 29167 | D9: 151639 | E9: 107573 | F9: 220957 | G9: 0 | H9: 244086 | I9: 12550 | J9: 1768679 | K9: 39990
A10: Taiwan Business Bank
A11: 渣打國際商業銀行 | B11: 844142 | C11: 11349 | D11: 198728 | E11: 95473 | F11: 143083 | G11: 0 | H11: 1700 | I11: 31247 | J11: 324945 | K11: 37617
A12: Standard Chartered Bank (Taiwan) Limited
A13: 台中商業銀行 | B13: 999251 | C13: 9540 | D13: 50220 | E13: 46268 | F13: 105016 | G13: 0 | H13: 86308 | I13: 5308 | J13: 656091 | K13: 40501
A14: Taichung Commercial Bank
A15: 京城商業銀行 # | B15: 380266 | C15: 2582 | D15: 37178 | E15: 7833 | F15: 49954 | G15: 0 | H15: 29304 | I15: 1743 | J15: 246554 | K15: 5118
A16: Kings Town Bank
A17: 滙豐(台灣)商業銀行 | B17: 856647 | C17: 6795 | D17: 174757 | E17: 80592 | F17: 79948 | G17: 0 | H17: 67563 | I17: 36141 | J17: 362419 | K17: 48432
A18: HSBC Bank(Taiwan) Ltd.
A20: 負債及權益 | B20: 負債及 權益 | C20: 央行、銀行同業存款及融資 | D20: 郵匯轉存款 | E20: 存款及匯款 | F20: 金融債券 | G20: 其他負債 | H20: 權益 Equities
A21: Liabilities & Equities
A22: 銀行別 by Bank | B22: Liabilities & Equities | C22: Due to the CBC & Other Banks | D22: Deposit Replaced by the Taiwan Post Co. | E22: Deposits and Remittances | F22: Bank Debentures | G22: Other Liabilities | I22: 股 本 | J22: 資本公積 | K22: 保留盈餘
I23: Capital Stock | J23: Reserve Fund | K23: Retained Earnings
A24: 臺灣中小企業銀行 | B24: 2574642 | C24: 89849 | D24: 172099 | E24: 2049950 | F24: 53910 | G24: 54347 | H24: 154486 | I24: 103983 | J24: 816 | K24: 44371
A25: Taiwan Business Bank
A26: 渣打國際商業銀行 | B26: 844142 | C26: 12181 | D26: 0 | E26: 670678 | F26: 9699 | G26: 97352 | H26: 54232 | I26: 29106 | J26: 5795 | K26: 20098
A27: Standard Chartered Bank (Taiwan) Limited
A28: 台中商業銀行 | B28: 999251 | C28: 7077 | D28: 5013 | E28: 839802 | F28: 15150 | G28: 36835 | H28: 95375 | I28: 64251 | J28: 2468 | K28: 28460
A29: Taichung Commercial Bank
A30: 京城商業銀行 # | B30: 380266 | C30: 18292 | D30: 0 | E30: 296052 | F30: 0 | G30: 11124 | H30: 54798 | I30: 11112 | J30: 55 | K30: 39942
A31: Kings Town Bank
A32: 滙豐(台灣)商業銀行 | B32: 856647 | C32: 9202 | D32: 0 | E32: 699918 | F32: 0 | G32: 76850 | H32: 70677 | I32: 34800 | J32: 1579 | K32: 34821
A33: HSBC Bank(Taiwan) Ltd.

Sheet 10-1(續四)
A1: 10-1 金融機構資產負債簡表（續四）
A2: 10-1 Abridged Balance Sheet（Cont.4）
A3: （1）本國銀行（全行）Domestic Banks (All Branches)
D4: ='10-1'!D4:E4 -> 民國115年 7月底 | F4: ='10-1'!F4:G4 -> End of July 2026 | K4: 單位：新臺幣百萬元 NT$ Million
A5: 資產別 | B5: 資產總額 | C5: 現金及 約當現金 | D5: 存放央行及拆借銀行同業 | E5: 透過損益按公允價值衡量之金融資產 | F5: 透過其他綜合損益按公允價值衡量之金融資產 | H5: 按攤銷後成本衡量之債務工具投資 | I5: 應收款項 | J5: 透支、貼現 | K5: 其他資產
A6: by Asset | J6: 及放款
A7: 銀行別 | B7: Total Assets | C7: Cash and Alike Equivalent Cash | D7: Deposits with CBC & Claims on Other Banks | E7: Financial Assets at Fair Value through Profit or Loss | F7: Financial Assets Measured at Fair Value through Other Comprehensive Income | H7: Debt Instrument Investments Measured at Amortized Cost | I7: Amounts Receivable | J7: Overdrafts, Discount and Loans | K7: Other Assets
A8: by Bank
A9: 瑞興商業銀行 | B9: 101975 | C9: 1292 | D9: 5933 | E9: 551 | F9: 8624 | G9: 0 | H9: 14049 | I9: 336 | J9: 66291 | K9: 4900
A10: Taipei Star Bank
A11: 華泰商業銀行 | B11: 271058 | C11: 2558 | D11: 22099 | E11: 3076 | F11: 7032 | G11: 0 | H11: 26423 | I11: 518 | J11: 195561 | K11: 13791
A12: Hwatai Bank
A13: 臺灣新光商業銀行 # | B13: 1423988 | C13: 21965 | D13: 85507 | E13: 47339 | F13: 178495 | G13: 0 | H13: 133444 | I13: 14866 | J13: 937337 | K13: 5035
A14: Taiwan Shin Kong Commercial Bank
A15: 陽信商業銀行 | B15: 848231 | C15: 8082 | D15: 44982 | E15: 38792 | F15: 128877 | G15: 0 | H15: 34594 | I15: 4036 | J15: 565733 | K15: 23135
A16: Sunny Bank Ltd.
A17: 板信商業銀行 | B17: 350282 | C17: 3251 | D17: 16456 | E17: 7782 | F17: 24861 | G17: 0 | H17: 40247 | I17: 1230 | J17: 232903 | K17: 23551
A18: Bank of Panhsin
A20: 負債及權益 | B20: 負債及 權益 | C20: 央行、銀行同業存款及融資 | D20: 郵匯轉存款 | E20: 存款及匯款 | F20: 金融債券 | G20: 其他負債 | H20: 權益 Equities
A21: Liabilities & Equities
A22: 銀行別 by Bank | B22: Liabilities & Equities | C22: Due to the CBC & Other Banks | D22: Deposit Replaced by the Taiwan Post Co. | E22: Deposits and Remittances | F22: Bank Debentures | G22: Other Liabilities | I22: 股 本 | J22: 資本公積 | K22: 保留盈餘
I23: Capital Stock | J23: Reserve Fund | K23: Retained Earnings
A24: 瑞興商業銀行 | B24: 101975 | C24: 6250 | D24: 0 | E24: 86051 | F24: 1610 | G24: 1931 | H24: 6134 | I24: 3266 | J24: 1058 | K24: 1545
A25: Taipei Star Bank
A26: 華泰商業銀行 | B26: 271058 | C26: 15 | D26: 0 | E26: 243216 | F26: 6450 | G26: 3240 | H26: 18137 | I26: 14012 | J26: 10 | K26: 3576
A27: Hwatai Bank
A28: 臺灣新光商業銀行 # | B28: 1423988 | C28: 26066 | D28: 314 | E28: 1188316 | F28: 25000 | G28: 100998 | H28: 83296 | I28: 49815 | J28: 2756 | K28: 37861
A29: Taiwan Shin Kong Commercial Bank
A30: 陽信商業銀行 | B30: 848231 | C30: 6677 | D30: 6299 | E30: 744954 | F30: 13520 | G30: 19455 | H30: 57326 | I30: 42827 | J30: 172 | K30: 15814
A31: Sunny Bank Ltd.
A32: 板信商業銀行 | B32: 350282 | C32: 8204 | D32: 11003 | E32: 288432 | F32: 4789 | G32: 12345 | H32: 25509 | I32: 20936 | J32: 1 | K32: 4962
A33: Bank of Panhsin

Sheet 10-1(續五)
A1: 10-1 金融機構資產負債簡表（續五）
A2: 10-1 Abridged Balance Sheet（Cont.5）
A3: （1）本國銀行（全行）Domestic Banks (All Branches)
D4: ='10-1'!D4:E4 -> 民國115年 7月底 | F4: ='10-1'!F4:G4 -> End of July 2026 | K4: 單位：新臺幣百萬元 NT$ Million
A5: 資產別 | B5: 資產總額 | C5: 現金及 約當現金 | D5: 存放央行及拆借銀行同業 | E5: 透過損益按公允價值衡量之金融資產 | F5: 透過其他綜合損益按公允價值衡量之金融資產 | H5: 按攤銷後成本衡量之債務工具投資 | I5: 應收款項 | J5: 透支、貼現 | K5: 其他資產
A6: by Asset | J6: 及放款
A7: 銀行別 | B7: Total Assets | C7: Cash and Alike Equivalent Cash | D7: Deposits with CBC & Claims on Other Banks | E7: Financial Assets at Fair Value through Profit or Loss | F7: Financial Assets Measured at Fair Value through Other Comprehensive Income | H7: Debt Instrument Investments Measured at Amortized Cost | I7: Amounts Receivable | J7: Overdrafts, Discount and Loans | K7: Other Assets
A8: by Bank
A9: 三信商業銀行 | B9: 222627 | C9: 2407 | D9: 12047 | E9: 6723 | F9: 21260 | G9: 0 | H9: 18845 | I9: 807 | J9: 153195 | K9: 7343
A10: Cota Bank
A11: 聯邦商業銀行 | B11: 1052173 | C11: 7028 | D11: 45333 | E11: 76977 | F11: 68018 | G11: 0 | H11: 78262 | I11: 38464 | J11: 667871 | K11: 70218
A12: Union Bank of Taiwan
A13: 遠東國際商業銀行 | B13: 920056 | C13: 5658 | D13: 67738 | E13: 62253 | F13: 47792 | G13: 0 | H13: 158914 | I13: 20868 | J13: 536889 | K13: 19944
A14: Far Eastern International Bank
A15: 元大商業銀行 # | B15: 2575334 | C15: 11905 | D15: 127416 | E15: 233434 | F15: 253727 | G15: 0 | H15: 264671 | I15: 33106 | J15: 1598773 | K15: 52301
A16: Yuanta Commercial Bank Co., Ltd.
A17: 永豐商業銀行 # | B17: 3091356 | C17: 42272 | D17: 245630 | E17: 82967 | F17: 334540 | G17: 0 | H17: 329029 | I17: 82369 | J17: 1838547 | K17: 136002
A18: Bank SinoPac Company Limited
A20: 負債及權益 | B20: 負債及 權益 | C20: 央行、銀行同業存款及融資 | D20: 郵匯轉存款 | E20: 存款及匯款 | F20: 金融債券 | G20: 其他負債 | H20: 權益 Equities
A21: Liabilities & Equities
A22: 銀行別 by Bank | B22: Liabilities & Equities | C22: Due to the CBC & Other Banks | D22: Deposit Replaced by the Taiwan Post Co. | E22: Deposits and Remittances | F22: Bank Debentures | G22: Other Liabilities | I22: 股 本 | J22: 資本公積 | K22: 保留盈餘
I23: Capital Stock | J23: Reserve Fund | K23: Retained Earnings
A24: 三信商業銀行 | B24: 222627 | C24: 12 | D24: 26 | E24: 198992 | F24: 1650 | G24: 3128 | H24: 18820 | I24: 13815 | J24: 924 | K24: 4052
A25: Cota Bank
A26: 聯邦商業銀行 | B26: 1052173 | C26: 24819 | D26: 8075 | E26: 838992 | F26: 6000 | G26: 86332 | H26: 87954 | I26: 48078 | J26: 8304 | K26: 22090
A27: Union Bank of Taiwan
A28: 遠東國際商業銀行 | B28: 920056 | C28: 4896 | D28: 35150 | E28: 725852 | F28: 23302 | G28: 59681 | H28: 71175 | I28: 49234 | J28: 831 | K28: 19779
A29: Far Eastern International Bank
A30: 元大商業銀行 # | B30: 2575334 | C30: 24253 | D30: 0 | E30: 2260485 | F30: 48500 | G30: 81028 | H30: 161068 | I30: 92277 | J30: 24943 | K30: 42675
A31: Yuanta Commercial Bank Co., Ltd.
A32: 永豐商業銀行 # | B32: 3091356 | C32: 101606 | D32: 10013 | E32: 2440897 | F32: 50940 | G32: 281652 | H32: 206249 | I32: 119145 | J32: 15581 | K32: 78188
A33: Bank SinoPac Company Limited

Sheet 10-1(續六)
A1: 10-1 金融機構資產負債簡表（續六）
A2: 10-1 Abridged Balance Sheet（Cont.6）
A3: （1）本國銀行（全行）Domestic Banks (All Branches)
D4: ='10-1'!D4:E4 -> 民國115年 7月底 | F4: ='10-1'!F4:G4 -> End of July 2026 | K4: 單位：新臺幣百萬元 NT$ Million
A5: 資產別 | B5: 資產總額 | C5: 現金及 約當現金 | D5: 存放央行及拆借銀行同業 | E5: 透過損益按公允價值衡量之金融資產 | F5: 透過其他綜合損益按公允價值衡量之金融資產 | H5: 按攤銷後成本衡量之債務工具投資 | I5: 應收款項 | J5: 透支、貼現 | K5: 其他資產
A6: by Asset | J6: 及放款
A7: 銀行別 | B7: Total Assets | C7: Cash and Alike Equivalent Cash | D7: Deposits with CBC & Claims on Other Banks | E7: Financial Assets at Fair Value through Profit or Loss | F7: Financial Assets Measured at Fair Value through Other Comprehensive Income | H7: Debt Instrument Investments Measured at Amortized Cost | I7: Amounts Receivable | J7: Overdrafts, Discount and Loans | K7: Other Assets
A8: by Bank
A9: 玉山商業銀行 # | B9: 4782043 | C9: 45197 | D9: 352900 | E9: 278480 | F9: 394061 | G9: 0 | H9: 576208 | I9: 168811 | J9: 2869362 | K9: 97023
A10: E.Sun Commercial Bank, Ltd.
A11: 凱基商業銀行 # | B11: 991165 | C11: 4763 | D11: 86570 | E11: 43942 | F11: 140757 | G11: 0 | H11: 78258 | I11: 29420 | J11: 547685 | K11: 59771
A12: KGI Bank
A13: 星展(台灣)商業銀行 | B13: 1094677 | C13: 12439 | D13: 171102 | E13: 71894 | F13: 142808 | G13: 0 | H13: 543 | I13: 90147 | J13: 569903 | K13: 35842
A14: DBS Bank (Taiwan) Ltd.
A15: 台新國際商業銀行 # | B15: 3446388 | C15: 29859 | D15: 187968 | E15: 180504 | F15: 192412 | G15: 0 | H15: 572603 | I15: 165296 | J15: 2072338 | K15: 45408
A16: Taishin International Bank
A17: 安泰商業銀行 | B17: 407543 | C17: 2583 | D17: 17659 | E17: 27823 | F17: 50184 | G17: 0 | H17: 33918 | I17: 5523 | J17: 268342 | K17: 1511
A18: Entie Commercial Bank
A20: 負債及權益 | B20: 負債及 權益 | C20: 央行、銀行同業存款及融資 | D20: 郵匯轉存款 | E20: 存款及匯款 | F20: 金融債券 | G20: 其他負債 | H20: 權益 Equities
A21: Liabilities & Equities
A22: 銀行別 by Bank | B22: Liabilities & Equities | C22: Due to the CBC & Other Banks | D22: Deposit Replaced by the Taiwan Post Co. | E22: Deposits and Remittances | F22: Bank Debentures | G22: Other Liabilities | I22: 股 本 | J22: 資本公積 | K22: 保留盈餘
I23: Capital Stock | J23: Reserve Fund | K23: Retained Earnings
A24: 玉山商業銀行 # | B24: 4782043 | C24: 118291 | D24: 12276 | E24: 3983450 | F24: 23820 | G24: 342367 | H24: 301838 | I24: 146320 | J24: 37231 | K24: 102391
A25: E.Sun Commercial Bank, Ltd.
A26: 凱基商業銀行 # | B26: 991165 | C26: 14278 | D26: 181 | E26: 719390 | F26: 26630 | G26: 155033 | H26: 75652 | I26: 47036 | J26: 8028 | K26: 21648
A27: KGI Bank
A28: 星展(台灣)商業銀行 | B28: 1094677 | C28: 47738 | D28: 0 | E28: 858534 | F28: 7036 | G28: 72019 | H28: 109351 | I28: 84250 | J28: 0 | K28: 24909
A29: DBS Bank (Taiwan) Ltd.
A30: 台新國際商業銀行 # | B30: 3446388 | C30: 49413 | D30: 6695 | E30: 2845258 | F30: 20050 | G30: 309309 | H30: 215663 | I30: 122992 | J30: 30108 | K30: 61392
A31: Taishin International Bank
A32: 安泰商業銀行 | B32: 407543 | C32: 4343 | D32: 5005 | E32: 350375 | F32: 0 | G32: 11807 | H32: 36014 | I32: 19576 | J32: 407 | K32: 16403
A33: Entie Commercial Bank

Sheet 10-1(續七)
A1: 10-1 金融機構資產負債簡表（續七）
A2: 10-1 Abridged Balance Sheet（Cont.7）
A3: （1）本國銀行（全行）Domestic Banks (All Branches)
D4: ='10-1'!D4:E4 -> 民國115年 7月底 | F4: ='10-1'!F4:G4 -> End of July 2026 | K4: 單位：新臺幣百萬元 NT$ Million
A5: 資產別 | B5: 資產總額 | C5: 現金及 約當現金 | D5: 存放央行及拆借銀行同業 | E5: 透過損益按公允價值衡量之金融資產 | F5: 透過其他綜合損益按公允價值衡量之金融資產 | H5: 按攤銷後成本衡量之債務工具投資 | I5: 應收款項 | J5: 透支、貼現 | K5: 其他資產
A6: by Asset | J6: 及放款
A7: 銀行別 | B7: Total Assets | C7: Cash and Alike Equivalent Cash | D7: Deposits with CBC & Claims on Other Banks | E7: Financial Assets at Fair Value through Profit or Loss | F7: Financial Assets Measured at Fair Value through Other Comprehensive Income | H7: Debt Instrument Investments Measured at Amortized Cost | I7: Amounts Receivable | J7: Overdrafts, Discount and Loans | K7: Other Assets
A8: by Bank
A9: 中國信託商業銀行 # | B9: 6663091 | C9: 106829 | D9: 402728 | E9: 314213 | F9: 394743 | G9: 0 | H9: 975862 | I9: 263303 | J9: 4020614 | K9: 184799
A10: CTBC Bank Co., Ltd.
A11: 將來商業銀行 | B11: 83024 | C11: 241 | D11: 10383 | E11: 0 | F11: 10047 | G11: 0 | H11: 1270 | I11: 1225 | J11: 55267 | K11: 4590
A12: NEXT Commercial Bank Co., Ltd.
A13: 連線商業銀行 | B13: 122054 | C13: 103 | D13: 9510 | E13: 0 | F13: 17954 | G13: 0 | H13: 3950 | I13: 396 | J13: 87013 | K13: 3127
A14: LINE Bank
A15: 樂天國際商業銀行 # | B15: 61474 | C15: 2 | D15: 2885 | E15: 3289 | F15: 15215 | G15: 0 | H15: 600 | I15: 670 | J15: 31872 | K15: 6940
A16: Rakuten International Commercial Bank Co., LTD.
A20: 負債及權益 | B20: 負債及 權益 | C20: 央行、銀行同業存款及融資 | D20: 郵匯轉存款 | E20: 存款及匯款 | F20: 金融債券 | G20: 其他負債 | H20: 權益 Equities
A21: Liabilities & Equities
A22: 銀行別 by Bank | B22: Liabilities & Equities | C22: Due to the CBC & Other Banks | D22: Deposit Replaced by the Taiwan Post Co. | E22: Deposits and Remittances | F22: Bank Debentures | G22: Other Liabilities | I22: 股 本 | J22: 資本公積 | K22: 保留盈餘
I23: Capital Stock | J23: Reserve Fund | K23: Retained Earnings
A24: 中國信託商業銀行 # | B24: 6663091 | C24: 104174 | D24: 80062 | E24: 5437544 | F24: 85100 | G24: 496023 | H24: 460188 | I24: 186844 | J24: 31667 | K24: 233574
A25: CTBC Bank Co., Ltd.
A26: 將來商業銀行 | B26: 83024 | C26: 0 | D26: 0 | E26: 73992 | F26: 0 | G26: 1818 | H26: 7214 | I26: 10000 | J26: 0 | K26: -2765
A27: NEXT Commercial Bank Co., Ltd.
A28: 連線商業銀行 | B28: 122054 | C28: 1194 | D28: 0 | E28: 104003 | F28: 0 | G28: 752 | H28: 16105 | I28: 20000 | J28: 0 | K28: -3882
A29: LINE Bank
A30: 樂天國際商業銀行 # | B30: 61474 | C30: 5450 | D30: 0 | E30: 44655 | F30: 0 | G30: 1755 | H30: 9614 | I30: 10000 | J30: 0 | K30: -311
A31: Rakuten International Commercial Bank Co., LTD.

Sheet 10-1(續八)
A1: 10-1 金融機構資產負債簡表（續八）
A2: 10-1 Abridged Balance Sheet（Cont.8）
A3: （2）外國銀行在臺分行（含OBU）Local Branches of Foreign Banks (Include OBU)
C4: 民國115年 7月底 | E4: End of July 2026 | K4: 單位：新臺幣百萬元 NT$ Million
A5: 資產別 | B5: 資產總額 | C5: 現金及 約當現金 | D5: 存放央行及拆借銀行同業 | E5: 透過損益按公允價值衡量之金融資產 | F5: 透過其他綜合損益按公允價值衡量之金融資產 | H5: 按攤銷後成本衡量之債務工具投資 | I5: 應收款項 | J5: 透支、貼現及放款 | K5: 其他資產
A6: by Asset
A7: 銀行別 | B7: Total Assets | C7: Cash and Alike Equivalent Cash | D7: Deposits with CBC & Claims on Other Banks | E7: Financial Assets at Fair Value through Profit or Loss | F7: Financial Assets Measured at Fair Value through Other Comprehensive Income | H7: Debt Instrument Investments Measured at Amortized Cost | I7: Amounts Receivable | J7: Overdrafts, Discount and Loans | K7: Other Assets
A8: by Bank
A9: 總 計 | B9: 4266822 | C9: 15389 | D9: 283093 | E9: 365398 | F9: 138608 | G9: 0 | H9: 60967 | I9: 407592 | J9: 1568588 | K9: 1427187
A10: Total
A11: 日商瑞穗銀行 | B11: 632388 | C11: 2459 | D11: 41214 | E11: 14887 | F11: 39250 | G11: 0 | H11: 0 | I11: 16007 | J11: 187641 | K11: 330929
A12: Mizuho Bank Ltd.
A13: 美商美國銀行 | B13: 92851 | C13: 407 | D13: 8209 | E13: 14366 | F13: 11652 | G13: 0 | H13: 0 | I13: 897 | J13: 41111 | K13: 16209
A14: Bank of America, National Association
A15: 泰國盤谷銀行 | B15: 22693 | C15: 145 | D15: 1845 | E15: 238 | F15: 1495 | G15: 0 | H15: 0 | I15: 115 | J15: 19248 | K15: -394
A16: Bangkok Bank Public Company Ltd.
A17: 菲律賓首都銀行 | B17: 15093 | C17: 105 | D17: 152 | E17: 110 | F17: 0 | G17: 0 | H17: 1870 | I17: 156 | J17: 12689 | K17: 12
A18: Metropolitan Bank and Trust Company
A20: 負債及權益 | B20: 負債及 權益 | C20: 央行、同業存款 (含郵匯轉存)及融資 | D20: 應付款項 | E20: 存款及匯款 | F20: 總行及國外 聯行拆放 | G20: 其他負債 | H20: 權益 Equities
A21: Liabilities & Equities | I21: 專撥營業資金 | J21: 保留盈餘 | K21: 權益 調整數
A22: 銀行別 by Bank | B22: Liabilities & Equities | C22: Due to the CBC & Other Banks | D22: Amounts Payable | E22: Deposits and Remittances | F22: Due to Head Office & other Overseas Branches | G22: Other Liabilities
I23: Working Capital | J23: Retained Earnings | K23: Due Adjustment
A24: 總 計 | B24: 4266822 | C24: 801534 | D24: 21966 | E24: 1710193 | F24: 1158176 | G24: 403803 | H24: 171150 | I24: 45085 | J24: 125641 | K24: 425
A25: Total
A26: 日商瑞穗銀行 | B26: 632388 | C26: 76609 | D26: 2472 | E26: 453837 | F26: 54069 | G26: 14192 | H26: 31210 | I26: 4454 | J26: 26900 | K26: -144
A27: Mizuho Bank Ltd.
A28: 美商美國銀行 | B28: 92851 | C28: 0 | D28: 687 | E28: 55118 | F28: 10396 | G28: 11871 | H28: 14780 | I28: 390 | J28: 14384 | K28: 6
A29: Bank of America, National Association
A30: 泰國盤谷銀行 | B30: 22693 | C30: 4521 | D30: 208 | E30: 7294 | F30: 4747 | G30: 564 | H30: 5359 | I30: 1000 | J30: 4276 | K30: 83
A31: Bangkok Bank Public Company Ltd.
A32: 菲律賓首都銀行 | B32: 15093 | C32: 0 | D32: 146 | E32: 248 | F32: 13514 | G32: 179 | H32: 1006 | I32: 665 | J32: 339 | K32: 2
A33: Metropolitan Bank and Trust Company
A34: 資料來源：金融機構申報資料（自結數）。

Sheet 10-1(續九)
A1: 10-1 金融機構資產負債簡表（續九）
A2: 10-1 Abridged Balance Sheet（Cont.9）
A3: （2）外國銀行在臺分行（含OBU）Local Branches of Foreign Banks (Include OBU)
C4: ='10-1(續八)'!C4:D4 -> 民國115年 7月底 | E4: ='10-1(續八)'!E4:G4 -> End of July 2026 | K4: 單位：新臺幣百萬元 NT$ Million
A5: 資產別 | B5: 資產總額 | C5: 現金及 約當現金 | D5: 存放央行及拆借銀行同業 | E5: 透過損益按公允價值衡量之金融資產 | F5: 透過其他綜合損益按公允價值衡量之金融資產 | H5: 按攤銷後成本衡量之債務工具投資 | I5: 應收款項 | J5: 透支、貼現及放款 | K5: 其他資產
A6: by Asset
A7: 銀行別 | B7: Total Assets | C7: Cash and Alike Equivalent Cash | D7: Deposits with CBC & Claims on Other Banks | E7: Financial Assets at Fair Value through Profit or Loss | F7: Financial Assets Measured at Fair Value through Other Comprehensive Income | H7: Debt Instrument Investments Measured at Amortized Cost | I7: Amounts Receivable | J7: Overdrafts, Discount and Loans | K7: Other Assets
A8: by Bank
A9: 美商美國紐約梅隆銀行 | B9: 6997 | C9: 29 | D9: 85 | E9: 4742 | F9: 0 | G9: 0 | H9: 1100 | I9: 86 | J9: 0 | K9: 954
A10: The Bank of New York Mellon
A11: 新加坡大華銀行 | B11: 270758 | C11: 257 | D11: 52657 | E11: 11172 | F11: 9826 | G11: 0 | H11: 0 | I11: 9049 | J11: 135367 | K11: 52430
A12: United Overseas Bank
A13: 美商道富銀行 | B13: 16506 | C13: 87 | D13: 496 | E13: 14059 | F13: 0 | G13: 0 | H13: 0 | I13: 103 | J13: 0 | K13: 1760
A14: State Street Bank and Trust Company
A15: 法國興業銀行 | B15: 79299 | C15: 33 | D15: 62 | E15: 22351 | F15: 2257 | G15: 0 | H15: 450 | I15: 412 | J15: 14527 | K15: 39207
A16: Societe Generale
A17: 德商德意志銀行 | B17: 249577 | C17: 189 | D17: 20881 | E17: 31529 | F17: 8234 | G17: 0 | H17: 0 | I17: 2314 | J17: 9664 | K17: 176766
A18: Deutsche Bank AG
A20: 負債及權益 | B20: 負債及 權益 | C20: 央行、同業存款 (含郵匯轉存)及融資 | D20: 應付款項 | E20: 存款及匯款 | F20: 總行及國外 聯行拆放 | G20: 其他負債 | H20: 權益 Equities
A21: Liabilities & Equities | I21: 專撥營業資金 | J21: 保留盈餘 | K21: 權益 調整數
A22: 銀行別 by Bank | B22: Liabilities & Equities | C22: Due to the CBC & Other Banks | D22: Amounts Payable | E22: Deposits and Remittances | F22: Due to Head Office & other Overseas Branches | G22: Other Liabilities
I23: Working Capital | J23: Retained Earnings | K23: Due Adjustment
A24: 美商美國紐約梅隆銀行 | B24: 6997 | C24: 0 | D24: 79 | E24: 7 | F24: 0 | G24: 4793 | H24: 2117 | I24: 200 | J24: 1917 | K24: 0
A25: The Bank of New York Mellon
A26: 新加坡大華銀行 | B26: 270758 | C26: 75254 | D26: 559 | E26: 3770 | F26: 158473 | G26: 25805 | H26: 6896 | I26: 200 | J26: 6663 | K26: 33
A27: United Overseas Bank
A28: 美商道富銀行 | B28: 16506 | C28: 800 | D28: 80 | E28: 0 | F28: 840 | G28: 10465 | H28: 4320 | I28: 200 | J28: 4120 | K28: 0
A29: State Street Bank and Trust Company
A30: 法國興業銀行 | B30: 79299 | C30: 38767 | D30: 848 | E30: 1570 | F30: 3230 | G30: 32757 | H30: 2127 | I30: 1650 | J30: 539 | K30: -63
A31: Societe Generale
A32: 德商德意志銀行 | B32: 249577 | C32: 0 | D32: 2457 | E32: 154279 | F32: 61955 | G32: 27833 | H32: 3053 | I32: 510 | J32: 2498 | K32: 45
A33: Deutsche Bank AG
A34: Source：Provided by individual institution.

Sheet 10-1(續十)
A1: 10-1 金融機構資產負債簡表（續十）
A2: 10-1 Abridged Balance Sheet（Cont.10）
A3: （2）外國銀行在臺分行（含OBU）Local Branches of Foreign Banks (Include OBU)
C4: ='10-1(續八)'!C4:D4 -> 民國115年 7月底 | E4: ='10-1(續八)'!E4:G4 -> End of July 2026 | K4: 單位：新臺幣百萬元 NT$ Million
A5: 資產別 | B5: 資產總額 | C5: 現金及 約當現金 | D5: 存放央行及拆借銀行同業 | E5: 透過損益按公允價值衡量之金融資產 | F5: 透過其他綜合損益按公允價值衡量之金融資產 | H5: 按攤銷後成本衡量之債務工具投資 | I5: 應收款項 | J5: 透支、貼現及放款 | K5: 其他資產
A6: by Asset
A7: 銀行別 | B7: Total Assets | C7: Cash and Alike Equivalent Cash | D7: Deposits with CBC & Claims on Other Banks | E7: Financial Assets at Fair Value through Profit or Loss | F7: Financial Assets Measured at Fair Value through Other Comprehensive Income | H7: Debt Instrument Investments Measured at Amortized Cost | I7: Amounts Receivable | J7: Overdrafts, Discount and Loans | K7: Other Assets
A8: by Bank
A9: 香港東亞銀行 | B9: 44336 | C9: 117 | D9: 1278 | E9: 233 | F9: 0 | G9: 0 | H9: 1700 | I9: 99 | J9: 41178 | K9: -269
A10: The Bank of East Asia Ltd.
A11: 美商摩根大通銀行 | B11: 144696 | C11: 53 | D11: 13528 | E11: 40833 | F11: 204 | G11: 0 | H11: 0 | I11: 3398 | J11: 17510 | K11: 69170
A12: JPMorgan Chase Bank, N.A.
A13: 新加坡商星展銀行 | B13: 222742 | C13: 389 | D13: 16565 | E13: 14314 | F13: 7085 | G13: 0 | H13: 0 | I13: 10595 | J13: 174533 | K13: -738
A14: DBS Bank Ltd.
A15: 法商法國巴黎銀行 | B15: 243461 | C15: 331 | D15: 7225 | E15: 93497 | F15: 2207 | G15: 0 | H15: 337 | I15: 4133 | J15: 77674 | K15: 58057
A16: BNP Paribas
A17: 英商渣打銀行 | B17: 23261 | C17: 491 | D17: 2294 | E17: 0 | F17: 0 | G17: 0 | H17: 0 | I17: 338 | J17: 19831 | K17: 307
A18: Standard Chartered Bank
A20: 負債及權益 | B20: 負債及 權益 | C20: 央行、同業存款 (含郵匯轉存)及融資 | D20: 應付款項 | E20: 存款及匯款 | F20: 總行及國外 聯行拆放 | G20: 其他負債 | H20: 權益 Equities
A21: Liabilities & Equities | I21: 專撥營業資金 | J21: 保留盈餘 | K21: 權益 調整數
A22: 銀行別 by Bank | B22: Liabilities & Equities | C22: Due to the CBC & Other Banks | D22: Amounts Payable | E22: Deposits and Remittances | F22: Due to Head Office & other Overseas Branches | G22: Other Liabilities
I23: Working Capital | J23: Retained Earnings | K23: Due Adjustment
A24: 香港東亞銀行 | B24: 44336 | C24: 10273 | D24: 71 | E24: 7364 | F24: 23478 | G24: 204 | H24: 2945 | I24: 881 | J24: 1926 | K24: 138
A25: The Bank of East Asia Ltd.
A26: 美商摩根大通銀行 | B26: 144696 | C26: 0 | D26: 898 | E26: 87205 | F26: 10474 | G26: 41752 | H26: 4367 | I26: 2000 | J26: 2374 | K26: -6
A27: JPMorgan Chase Bank, N.A.
A28: 新加坡商星展銀行 | B28: 222742 | C28: 173841 | D28: 792 | E28: 26350 | F28: 0 | G28: 13015 | H28: 8744 | I28: 200 | J28: 8408 | K28: 136
A29: DBS Bank Ltd.
A30: 法商法國巴黎銀行 | B30: 243461 | C30: 43660 | D30: 1897 | E30: 91825 | F30: 945 | G30: 101316 | H30: 3818 | I30: 890 | J30: 2919 | K30: 8
A31: BNP Paribas
A32: 英商渣打銀行 | B32: 23261 | C32: 20020 | D32: 73 | E32: 200 | F32: 0 | G32: 760 | H32: 2208 | I32: 1542 | J32: 607 | K32: 59
A33: Standard Chartered Bank

Sheet 10-1(續十一)
A1: 10-1 金融機構資產負債簡表（續十一）
A2: 10-1 Abridged Balance Sheet（Cont.11）
A3: （2）外國銀行在臺分行（含OBU）Local Branches of Foreign Banks (Include OBU)
C4: ='10-1(續八)'!C4:D4 -> 民國115年 7月底 | E4: ='10-1(續八)'!E4:G4 -> End of July 2026 | K4: 單位：新臺幣百萬元 NT$ Million
A5: 資產別 | B5: 資產總額 | C5: 現金及 約當現金 | D5: 存放央行及拆借銀行同業 | E5: 透過損益按公允價值衡量之金融資產 | F5: 透過其他綜合損益按公允價值衡量之金融資產 | H5: 按攤銷後成本衡量之債務工具投資 | I5: 應收款項 | J5: 透支、貼現及放款 | K5: 其他資產
A6: by Asset
A7: 銀行別 | B7: Total Assets | C7: Cash and Alike Equivalent Cash | D7: Deposits with CBC & Claims on Other Banks | E7: Financial Assets at Fair Value through Profit or Loss | F7: Financial Assets Measured at Fair Value through Other Comprehensive Income | H7: Debt Instrument Investments Measured at Amortized Cost | I7: Amounts Receivable | J7: Overdrafts, Discount and Loans | K7: Other Assets
A8: by Bank
A9: 新加坡商新加坡華僑銀行 | B9: 162494 | C9: 122 | D9: 40332 | E9: 9404 | F9: 30023 | G9: 0 | H9: 0 | I9: 853 | J9: 79504 | K9: 2255
A10: Oversea-Chinese Banking Corporation Ltd.
A11: 法國東方匯理銀行 | B11: 215798 | C11: 46 | D11: 53 | E11: 18934 | F11: 310 | G11: 0 | H11: 1040 | I11: 63771 | J11: 96408 | K11: 35238
A12: Calyon Corporate and Investment Bank
A13: 瑞士商瑞士銀行 | B13: 171832 | C13: 233 | D13: 1558 | E13: 2617 | F13: 3146 | G13: 0 | H13: 0 | I13: 865 | J13: 81460 | K13: 81952
A14: UBS AG
A15: 荷蘭商安智銀行 | B15: 367126 | C15: 137 | D15: 222 | E15: 21622 | F15: 0 | G15: 0 | H15: 0 | I15: 189157 | J15: 63632 | K15: 92356
A16: ING Bank, N. V.
A17: 美商富國銀行 | B17: 809 | C17: 313 | D17: 0 | E17: 0 | F17: 0 | G17: 0 | H17: 0 | I17: 4 | J17: 0 | K17: 491
A18: Wells Fargo Bank, National Association
A20: 負債及權益 | B20: 負債及 權益 | C20: 央行、同業存款 (含郵匯轉存)及融資 | D20: 應付款項 | E20: 存款及匯款 | F20: 總行及國外 聯行拆放 | G20: 其他負債 | H20: 權益 Equities
A21: Liabilities & Equities | I21: 專撥營業資金 | J21: 保留盈餘 | K21: 權益 調整數
A22: 銀行別 by Bank | B22: Liabilities & Equities | C22: Due to the CBC & Other Banks | D22: Amounts Payable | E22: Deposits and Remittances | F22: Due to Head Office & other Overseas Branches | G22: Other Liabilities
I23: Working Capital | J23: Retained Earnings | K23: Due Adjustment
A24: 新加坡商新加坡華僑銀行 | B24: 162494 | C24: 2620 | D24: 870 | E24: 2649 | F24: 144108 | G24: 8602 | H24: 3645 | I24: 2904 | J24: 730 | K24: 11
A25: Oversea-Chinese Banking Corporation Ltd.
A26: 法國東方匯理銀行 | B26: 215798 | C26: 59738 | D26: 1311 | E26: 65948 | F26: 50900 | G26: 30965 | H26: 6936 | I26: 2761 | J26: 4161 | K26: 14
A27: Calyon Corporate and Investment Bank
A28: 瑞士商瑞士銀行 | B28: 171832 | C28: 0 | D28: 1132 | E28: 108497 | F28: 52040 | G28: 6976 | H28: 3187 | I28: 1040 | J28: 1975 | K28: 173
A29: UBS AG
A30: 荷蘭商安智銀行 | B30: 367126 | C30: 0 | D30: 2365 | E30: 109605 | F30: 243253 | G30: 7381 | H30: 4523 | I30: 1580 | J30: 2941 | K30: 2
A31: ING Bank, N. V.
A32: 美商富國銀行 | B32: 809 | C32: 0 | D32: 20 | E32: 90 | F32: 0 | G32: 188 | H32: 511 | I32: 200 | J32: 392 | K32: -81
A33: Wells Fargo Bank, National Association

Sheet 10-1(續十二)
A1: 10-1 金融機構資產負債簡表（續十二）
A2: 10-1 Abridged Balance Sheet（Cont.12）
A3: （2）外國銀行在臺分行（含OBU）Local Branches of Foreign Banks (Include OBU)
C4: ='10-1(續八)'!C4:D4 -> 民國115年 7月底 | E4: ='10-1(續八)'!E4:G4 -> End of July 2026 | K4: 單位：新臺幣百萬元 NT$ Million
A5: 資產別 | B5: 資產總額 | C5: 現金及 約當現金 | D5: 存放央行及拆借銀行同業 | E5: 透過損益按公允價值衡量之金融資產 | F5: 透過其他綜合損益按公允價值衡量之金融資產 | H5: 按攤銷後成本衡量之債務工具投資 | I5: 應收款項 | J5: 透支、貼現及放款 | K5: 其他資產
A6: by Asset
A7: 銀行別 | B7: Total Assets | C7: Cash and Alike Equivalent Cash | D7: Deposits with CBC & Claims on Other Banks | E7: Financial Assets at Fair Value through Profit or Loss | F7: Financial Assets Measured at Fair Value through Other Comprehensive Income | H7: Debt Instrument Investments Measured at Amortized Cost | I7: Amounts Receivable | J7: Overdrafts, Discount and Loans | K7: Other Assets
A8: by Bank
A9: 日商三菱日聯銀行 | B9: 381083 | C9: 846 | D9: 18079 | E9: 13415 | F9: 18755 | G9: 0 | H9: 0 | I9: 4994 | J9: 119752 | K9: 205241
A10: MUFG Bank
A11: 日商三井住友銀行 | B11: 387704 | C11: 7335 | D11: 33420 | E11: 8328 | F11: 0 | G11: 0 | H11: 17200 | I11: 10832 | J11: 86664 | K11: 223926
A12: Sumitomo Mitsui Banking Corporation
A13: 美商花旗銀行 | B13: 86084 | C13: 236 | D13: 3486 | E13: 3 | F13: 0 | G13: 0 | H13: 0 | I13: 482 | J13: 82754 | K13: -876
A14: Citibank N. A.
A15: 香港上海滙豐銀行 | B15: 81763 | C15: 134 | D15: 8260 | E15: 0 | F15: 0 | G15: 0 | H15: 0 | I15: 315 | J15: 73665 | K15: -612
A16: The Hongkong and Shanghai Banking Corp.Ltd.
A17: 西班牙商西班牙對外銀行 | B17: 132385 | C17: 111 | D17: 933 | E17: 370 | F17: 2594 | G17: 0 | H17: 0 | I17: 73491 | J17: 46153 | K17: 8733
A18: Banco Bilbao Vizcaya Argentaria S.A.
A20: 負債及權益 | B20: 負債及 權益 | C20: 央行、同業存款 (含郵匯轉存)及融資 | D20: 應付款項 | E20: 存款及匯款 | F20: 總行及國外 聯行拆放 | G20: 其他負債 | H20: 權益 Equities
A21: Liabilities & Equities | I21: 專撥營業資金 | J21: 保留盈餘 | K21: 權益 調整數
A22: 銀行別 by Bank | B22: Liabilities & Equities | C22: Due to the CBC & Other Banks | D22: Amounts Payable | E22: Deposits and Remittances | F22: Due to Head Office & other Overseas Branches | G22: Other Liabilities
I23: Working Capital | J23: Retained Earnings | K23: Due Adjustment
A24: 日商三菱日聯銀行 | B24: 381083 | C24: 47216 | D24: 1370 | E24: 204643 | F24: 85553 | G24: 19634 | H24: 22666 | I24: 1620 | J24: 20952 | K24: 95
A25: MUFG Bank
A26: 日商三井住友銀行 | B26: 387704 | C26: 59639 | D26: 1646 | E26: 270780 | F26: 28341 | G26: 10421 | H26: 16877 | I26: 3500 | J26: 13377 | K26: 0
A27: Sumitomo Mitsui Banking Corporation
A28: 美商花旗銀行 | B28: 86084 | C28: 82754 | D28: 332 | E28: 0 | F28: 0 | G28: 170 | H28: 2827 | I28: 1700 | J28: 1113 | K28: 14
A29: Citibank N. A.
A30: 香港上海滙豐銀行 | B30: 81763 | C30: 56584 | D30: 201 | E30: 0 | F30: 21392 | G30: 421 | H30: 3165 | I30: 2840 | J30: 325 | K30: 1
A31: The Hongkong and Shanghai Banking Corp.Ltd.
A32: 西班牙商西班牙對外銀行 | B32: 132385 | C32: 0 | D32: 448 | E32: 9568 | F32: 115502 | G32: 737 | H32: 6129 | I32: 5827 | J32: 307 | K32: -5
A33: Banco Bilbao Vizcaya Argentaria S.A.

Sheet 10-1(續十三)
A1: 10-1 金融機構資產負債簡表（續十三）
A2: 10-1 Abridged Balance Sheet（Cont.13）
A3: （2）外國銀行在臺分行（含OBU）Local Branches of Foreign Banks (Include OBU)
C4: ='10-1(續八)'!C4:D4 -> 民國115年 7月底 | E4: ='10-1(續八)'!E4:G4 -> End of July 2026 | K4: 單位：新臺幣百萬元 NT$ Million
A5: 資產別 | B5: 資產總額 | C5: 現金及 約當現金 | D5: 存放央行及拆借銀行同業 | E5: 透過損益按公允價值衡量之金融資產 | F5: 透過其他綜合損益按公允價值衡量之金融資產 | H5: 按攤銷後成本衡量之債務工具投資 | I5: 應收款項 | J5: 透支、貼現及放款 | K5: 其他資產
A6: by Asset
A7: 銀行別 | B7: Total Assets | C7: Cash and Alike Equivalent Cash | D7: Deposits with CBC & Claims on Other Banks | E7: Financial Assets at Fair Value through Profit or Loss | F7: Financial Assets Measured at Fair Value through Other Comprehensive Income | H7: Debt Instrument Investments Measured at Amortized Cost | I7: Amounts Receivable | J7: Overdrafts, Discount and Loans | K7: Other Assets
A8: by Bank
A9: 澳商澳盛銀行 | B9: 170176 | C9: 97 | D9: 649 | E9: 26220 | F9: 299 | G9: 0 | H9: 37270 | I9: 5408 | J9: 72153 | K9: 28080
A10: ANZ Signature Priority Banking
A11: 法商法國外貿銀行 | B11: 23857 | C11: 59 | D11: 45 | E11: 2153 | F11: 698 | G11: 0 | H11: 0 | I11: 9583 | J11: 7202 | K11: 4118
A12: Natixis Bank
A13: 印尼商印尼人民銀行 | B13: 12679 | C13: 131 | D13: 8235 | E13: 0 | F13: 573 | G13: 0 | H13: 0 | I13: 100 | J13: 1716 | K13: 1924
A14: PT Bank Rakyat Indonesia (Persero) Tbk.
A15: 韓商韓亞銀行 | B15: 8376 | C15: 498 | D15: 1332 | E15: 0 | F15: 0 | G15: 0 | H15: 0 | I15: 31 | J15: 6555 | K15: -39
A16: KEB Hana Bank
A20: 負債及權益 | B20: 負債及 權益 | C20: 央行、同業存款 (含郵匯轉存)及融資 | D20: 應付款項 | E20: 存款及匯款 | F20: 總行及國外 聯行拆放 | G20: 其他負債 | H20: 權益 Equities
A21: Liabilities & Equities | I21: 專撥營業資金 | J21: 保留盈餘 | K21: 權益 調整數
A22: 銀行別 by Bank | B22: Liabilities & Equities | C22: Due to the CBC & Other Banks | D22: Amounts Payable | E22: Deposits and Remittances | F22: Due to Head Office & other Overseas Branches | G22: Other Liabilities
I23: Working Capital | J23: Retained Earnings | K23: Due Adjustment
A24: 澳商澳盛銀行 | B24: 170176 | C24: 32757 | D24: 618 | E24: 45786 | F24: 61595 | G24: 24266 | H24: 5153 | I24: 4000 | J24: 1245 | K24: -92
A25: ANZ Signature Priority Banking
A26: 法商法國外貿銀行 | B26: 23857 | C26: 14687 | D26: 335 | E26: 0 | F26: 3869 | G26: 4386 | H26: 581 | I26: 401 | J26: 181 | K26: -1
A27: Natixis Bank
A28: 印尼商印尼人民銀行 | B28: 12679 | C28: 1292 | D28: 21 | E28: 1083 | F28: 4846 | G28: 4119 | H28: 1318 | I28: 1100 | J28: 220 | K28: -2
A29: PT Bank Rakyat Indonesia (Persero) Tbk.
A30: 韓商韓亞銀行 | B30: 8376 | C30: 501 | D30: 29 | E30: 2479 | F30: 4656 | G30: 30 | H30: 682 | I30: 830 | J30: -149 | K30: 0
A31: KEB Hana Bank

Sheet 10-1(續十四)
A1: 10-1 金融機構資產負債簡表（續十四）
A2: 10-1 Abridged Balance Sheet（Cont.14）
A3: （3）大陸地區銀行在臺分行 Local Branches of Mainland Chinese Banks
C4: ='10-1(續八)'!C4:D4 -> 民國115年 7月底 | E4: ='10-1(續八)'!E4:G4 -> End of July 2026 | K4: 單位：新臺幣百萬元 NT$ Million
A5: 資產別 | B5: 資產總額 | C5: 現金及 約當現金 | D5: 存放央行及拆借銀行同業 | E5: 透過損益按公允價值衡量之金融資產 | F5: 透過其他綜合損益按公允價值衡量之金融資產 | H5: 按攤銷後成本衡量之債務工具投資 | I5: 應收款項 | J5: 透支、貼現及放款 | K5: 其他資產
A6: by Asset
A7: 銀行別 | B7: Total Assets | C7: Cash and Alike Equivalent Cash | D7: Deposits with CBC & Claims on Other Banks | E7: Financial Assets at Fair Value through Profit or Loss | F7: Financial Assets Measured at Fair Value through Other Comprehensive Income | H7: Debt Instrument Investments Measured at Amortized Cost | I7: Amounts Receivable | J7: Overdrafts, Discount and Loans | K7: Other Assets
A8: by Bank
A9: 總 計 | B9: 1660520 | C9: 13075 | D9: 413185 | E9: 33328 | F9: 54236 | G9: 0 | H9: 21699 | I9: 13943 | J9: 229231 | K9: 881823
A10: Total
A11: 大陸商中國銀行 | B11: 599696 | C11: 9431 | D11: 202478 | E11: 32828 | F11: 0 | G11: 0 | H11: 6151 | I11: 8267 | J11: 101550 | K11: 238991
A12: Bank of China Limited
A13: 大陸商交通銀行 | B13: 231558 | C13: 3272 | D13: 10483 | E13: 159 | F13: 99 | G13: 0 | H13: 5999 | I13: 980 | J13: 48808 | K13: 161759
A14: Bank of Communications Co., Ltd.
A15: 大陸商中國建設銀行 | B15: 829266 | C15: 372 | D15: 200224 | E15: 340 | F15: 54138 | G15: 0 | H15: 9550 | I15: 4696 | J15: 78873 | K15: 481073
A16: China Construction Bank
A20: 負債及權益 | B20: 負債及 權益 | C20: 央行、同業存款 (含郵匯轉存)及融資 | D20: 應付款項 | E20: 存款及匯款 | F20: 總行及國外 聯行拆放 | G20: 其他負債 | H20: 權益 Equities
A21: Liabilities & Equities | I21: 專撥營業資金 | J21: 保留盈餘 | K21: 權益 調整數
A22: 銀行別 by Bank | B22: Liabilities & Equities | C22: Due to the CBC & Other Banks | D22: Amounts Payable | E22: Deposits and Remittances | F22: Due to Head Office & other Overseas Branches | G22: Other Liabilities
I23: Working Capital | J23: Retained Earnings | K23: Due Adjustment
A24: 總 計 | B24: 1660520 | C24: 1089338 | D24: 8889 | E24: 131285 | F24: 356131 | G24: 39331 | H24: 35546 | I24: 5909 | J24: 29426 | K24: 211
A25: Total
A26: 大陸商中國銀行 | B26: 599696 | C26: 460293 | D26: 4687 | E26: 51021 | F26: 36654 | G26: 35918 | H26: 11123 | I26: 2940 | J26: 8183 | K26: 0
A27: Bank of China Limited
A28: 大陸商交通銀行 | B28: 231558 | C28: 180363 | D28: 706 | E28: 30273 | F28: 13014 | G28: 775 | H28: 6428 | I28: 1475 | J28: 4956 | K28: -2
A29: Bank of Communications Co., Ltd.
A30: 大陸商中國建設銀行 | B30: 829266 | C30: 448682 | D30: 3497 | E30: 49991 | F30: 306463 | G30: 2638 | H30: 17995 | I30: 1494 | J30: 16288 | K30: 213
A31: China Construction Bank
A34: 說 明：本表自102年1月起包含大陸地區銀行在臺分行資料。

Sheet 10-1(續十五)
A1: 10-1 金融機構資產負債簡表（續十五）
A2: 10-1 Abridged Balance Sheet（Cont.15）
A3: （4）票券金融公司 Bills Finance Companies
C4: ='10-1(續八)'!C4:D4 -> 民國115年 7月底 | E4: ='10-1(續八)'!E4:G4 -> End of July 2026 | K4: 單位：新臺幣百萬元 NT$ Million
A5: 資產別 | B5: 資產總額 | C5: 現金及存拆放銀行同業 | D5: 透過損益按公允價值衡量之金融資產 | E5: 透過其他綜合損益按公允價值衡量之金融資產 | G5: 按攤銷後成本衡量之債務工具投資 | H5: 附賣回票券及債券投資 | I5: 應收款項 | J5: 採權益法之股權投資 | K5: 其他資產
A6: by Asset
A7: 銀行別 by Bank | B7: Total Assets | C7: Cash & Claims on Other Banks | D7: Financial Assets at Fair Value through Profit or Loss | E7: Financial Assets Measured at Fair Value through Other Comprehensive Income | G7: Debt Instrument Investments Measured at Amortized Cost | H7: Securities Purchased under R/S | I7: Amounts Receivable | J7: Equity Investment, Equity Method | K7: Other Assets
A9: 總 計 | B9: 1404867 | C9: 2876 | D9: 803235 | E9: 544854 | F9: 0 | G9: 5975 | H9: 13584 | I9: 12994 | J9: 1764 | K9: 19587
A10: Total
A11: 兆豐票券金融公司 # | B11: 386738 | C11: 445 | D11: 205581 | E11: 171135 | F11: 0 | G11: 486 | H11: 950 | I11: 3494 | J11: 0 | K11: 4648
A12: Mega Bills Finance Co., Ltd.
A13: 中華票券金融公司 | B13: 287879 | C13: 346 | D13: 177378 | E13: 95884 | F13: 0 | G13: 2894 | H13: 7681 | I13: 2165 | J13: 0 | K13: 1530
A14: China Bills Finance Corporation
A15: 國際票券金融公司 # | B15: 317253 | C15: 754 | D15: 176879 | E15: 126882 | F15: 0 | G15: 699 | H15: 0 | I15: 4249 | J15: 1764 | K15: 6025
A16: International Bills Finance Corporation
A17: 大中票券金融公司 | B17: 88963 | C17: 193 | D17: 51486 | E17: 33622 | F17: 0 | G17: 0 | H17: 0 | I17: 1022 | J17: 0 | K17: 2640
A18: Dah Chung Bills Finance Corp.
A20: 負債及權益 | B20: 負債及 權益 | C20: 銀行暨同業透支及拆借 | D20: 透過損益按公允價值衡量之金融負債 | E20: 附買回票券及債券負債 | F20: 應付款項 | G20: 公司債 | H20: 其他負債 | I20: 權益 Equities
A21: Liabilities& Equities | J21: 股 本 | K21: 資本公積
A22: 銀行別 by Bank | B22: Liabilities & Equities | C22: Due to the Other Banks | D22: Financial Liabilities at Fair Value through Profit or Loss | E22: Securities Sold under R/P | F22: Amounts Payable | G22: Coporate Bonds | H22: Other Liabilities | J22: Capital Stock | K22: Reserve Fund
A24: 總 計 | B24: 1404867 | C24: 161955 | D24: 1740 | E24: 1080033 | F24: 4714 | G24: 0 | H24: 12142 | I24: 144283 | J24: 70864 | K24: 1041
A25: Total
A26: 兆豐票券金融公司 # | B26: 386738 | C26: 41637 | D26: 297 | E26: 298158 | F26: 762 | G26: 0 | H26: 3412 | I26: 42473 | J26: 15114 | K26: 328
A27: Mega Bills Finance Co., Ltd.
A28: 中華票券金融公司 | B28: 287879 | C28: 35916 | D28: 43 | E28: 221184 | F28: 1129 | G28: 0 | H28: 2335 | I28: 27271 | J28: 13430 | K28: 19
A29: China Bills Finance Corporation
A30: 國際票券金融公司 # | B30: 317253 | C30: 22828 | D30: 1323 | E30: 256881 | F30: 804 | G30: 0 | H30: 2553 | I30: 32865 | J30: 18730 | K30: 372
A31: International Bills Finance Corporation
A32: 大中票券金融公司 | B32: 88963 | C32: 13703 | D32: 20 | E32: 64835 | F32: 244 | G32: 0 | H32: 942 | I32: 9218 | J32: 4851 | K32: 0
A33: Dah Chung Bills Finance Corp.
A34: 資料來源：金融機構申報資料（自結數）。
A35: 說 明：#係金融控股公司之子公司。

Sheet 10-1(續十六)
A1: 10-1 金融機構資產負債簡表（續十六）
A2: 10-1 Abridged Balance Sheet（Cont.16）
A3: （4）票券金融公司 Bills Finance Companies
C4: ='10-1(續八)'!C4:D4 -> 民國115年 7月底 | E4: ='10-1(續八)'!E4:G4 -> End of July 2026 | K4: 單位：新臺幣百萬元 NT$ Million
A5: 資產別 | B5: 資產總額 | C5: 現金及存拆放銀行同業 | D5: 透過損益按公允價值衡量之金融資產 | E5: 透過其他綜合損益按公允價值衡量之金融資產 | G5: 按攤銷後成本衡量之債務工具投資 | H5: 附賣回票券及債券投資 | I5: 應收款項 | J5: 採權益法之股權投資 | K5: 其他資產
A6: by Asset
A7: 銀行別 by Bank | B7: Total Assets | C7: Cash & Claims on Other Banks | D7: Financial Assets at Fair Value through Profit or Loss | E7: Financial Assets Measured at Fair Value through Other Comprehensive Income | G7: Debt Instrument Investments Measured at Amortized Cost | H7: Securities Purchased under R/S | I7: Amounts Receivable | J7: Equity Investment, Equity Method | K7: Other Assets
A9: 台灣票券金融公司 | B9: 76439 | C9: 147 | D9: 49278 | E9: 25121 | F9: 0 | G9: 0 | H9: 0 | I9: 422 | J9: 0 | K9: 1471
A10: Taiwan Finance Corp.
A11: 萬通票券金融公司 | B11: 91560 | C11: 362 | D11: 54823 | E11: 30571 | F11: 0 | G11: 0 | H11: 4952 | I11: 453 | J11: 0 | K11: 399
A12: Grand Bills Finance Corporation
A13: 大慶票券金融公司 | B13: 80884 | C13: 425 | D13: 39068 | E13: 38763 | F13: 0 | G13: 0 | H13: 0 | I13: 548 | J13: 0 | K13: 2081
A14: Taching Bills Finance Corporation
A15: 合作金庫票券金融公司# | B15: 75151 | C15: 203 | D15: 48741 | E15: 22877 | F15: 0 | G15: 1896 | H15: 0 | I15: 641 | J15: 0 | K15: 794
A16: Taiwan Cooperative Bills Finance Corporation
A20: 負債及權益 | B20: 負債及 權益 | C20: 銀行暨同業透支及拆借 | D20: 透過損益按公允價值衡量之金融負債 | E20: 附買回票券及債券負債 | F20: 應付款項 | G20: 公司債 | H20: 其他負債 | I20: 權益 Equities
A21: Liabilities& Equities | J21: 股 本 | K21: 資本公積
A22: 銀行別 by Bank | B22: Liabilities & Equities | C22: Due to the Other Banks | D22: Financial Liabilities at Fair Value through Profit or Loss | E22: Securities Sold under R/P | F22: Amounts Payable | G22: Coporate Bonds | H22: Other Liabilities | J22: Capital Stock | K22: Reserve Fund
A24: 台灣票券金融公司 | B24: 76439 | C24: 14002 | D24: 29 | E24: 53964 | F24: 640 | G24: 0 | H24: 555 | I24: 7249 | J24: 5162 | K24: 6
A25: Taiwan Finance Corp.
A26: 萬通票券金融公司 | B26: 91560 | C26: 9888 | D26: 19 | E26: 70891 | F26: 345 | G26: 0 | H26: 1031 | I26: 9385 | J26: 5408 | K26: 0
A27: Grand Bills Finance Corporation
A28: 大慶票券金融公司 | B28: 80884 | C28: 14276 | D28: 2 | E28: 57306 | F28: 655 | G28: 0 | H28: 624 | I28: 8021 | J28: 3291 | K28: 4
A29: Taching Bills Finance Corporation
A30: 合作金庫票券金融公司# | B30: 75151 | C30: 9705 | D30: 9 | E30: 56812 | F30: 135 | G30: 0 | H30: 690 | I30: 7801 | J30: 4878 | K30: 313
A31: Taiwan Cooperative Bills Finance Corporation
A34: Source：Provided by individual institution.
A35: Note：# refer to the subsidary of financial holding companies.

Sheet 10-1(續十七)
A1: 10-1 金融機構資產負債簡表（續十七）
A2: 10-1 Abridged Balance Sheet（Cont.17）
A3: （5）信用合作社 Credit Cooperatives
C4: ='10-1(續八)'!C4:D4 -> 民國115年 7月底 | E4: ='10-1(續八)'!E4:G4 -> End of July 2026 | L4: 單位：新臺幣百萬元 NT$ Million
A5: 資產別 | B5: 資產總額 | C5: 現金及 約當現金 | D5: 存放央行及 拆借銀行同業 | E5: 透過損益按公允價值衡量之金融資產 | F5: 附賣回票券及債券投資 | G5: 應收 款項 | H5: 貼現及 放款 | I5: 備供出售 金融資產 | J5: 持有至到期日金融資產 | K5: 不動產 | L5: 其他 資產
A6: by Asset | K6: 及設備
I7: Available-for-Sale Financial Assets | J7: Held-to-maturity Financial assets
A8: 信合社別 by Credit Cooperative | B8: Total Assets | C8: Cash and Alike Equivalent Cash | D8: Deposits with CBC & Claims on Other Banks | E8: Financial Assets at Fair Value through Profit or Loss | F8: Securities Purchased under R/S | G8: Amounts Receivable | H8: Discount and Loans | K8: Property and Equipment | L8: Other Assets
A10: 總 計 | B10: 990031 | C10: 213936 | D10: 44089 | E10: 336 | F10: 4222 | G10: 1331 | H10: 686800 | I10: 12361 | J10: 5990 | K10: 11734 | L10: 9233
A11: Total
A12: 台北市第五信用合作社 | B12: 29460 | C12: 7309 | D12: 1186 | E12: 0 | F12: 0 | G12: 38 | H12: 19562 | I12: 561 | J12: 510 | K12: 274 | L12: 19
A13: The Fifth Credit Cooperation of Taipei
A14: 基隆第一信用合作社 | B14: 41691 | C14: 7464 | D14: 1795 | E14: 85 | F14: 799 | G14: 105 | H14: 31068 | I14: 1390 | J14: 607 | K14: 289 | L14: -1910
A15: Keelung First Credit Cooperative
A16: 基隆市第二信用合作社 | B16: 43423 | C16: 8371 | D16: 1968 | E16: 9 | F16: 0 | G16: 44 | H16: 30869 | I16: 189 | J16: 300 | K16: 642 | L16: 1032
A17: The Second Credit Cooperative of Keelung
A18: 淡水第一信用合作社 | B18: 118611 | C18: 28258 | D18: 4768 | E18: 19 | F18: 300 | G18: 147 | H18: 81826 | I18: 2165 | J18: 102 | K18: 706 | L18: 321
A19: The Tamshui First Credit Cooperative Bank
A21: 負債及股東權益 | B21: 負債及 權益 | C21: 央行、銀行同業存款及融資 | D21: 附買回票券 及債券負債 | E21: 應付款項 | F21: 存款及匯款 | H21: 其他 負債 | I21: 權益 Equities
A22: Liabilities & Equities | J22: 股 金 | K22: 資本公積 | L22: 保留盈餘
A23: 信合社別 by Credit Cooperative | B23: Liabilities & Equities | C23: Due to the CBC & Other Banks | D23: Securities Sold under R/P | E23: Amounts Payable | F23: Deposits and Remittances | H23: Other Liabilities | J23: Capital Stock | K23: Reserve Fund | L23: Retained Earnings
A25: 總 計 | B25: 990031 | C25: 11 | D25: 0 | E25: 3470 | F25: 909813 | H25: 3473 | I25: 73264 | J25: 17509 | K25: 4011 | L25: 43119
A26: Total
A27: 台北市第五信用合作社 | B27: 29460 | C27: 0 | D27: 0 | E27: 114 | F27: 26647 | H27: 75 | I27: 2624 | J27: 571 | K27: 22 | L27: 1537
A28: The Fifth Credit Cooperation of Taipei
A29: 基隆第一信用合作社 | B29: 41691 | C29: 0 | D29: 0 | E29: 198 | F29: 36373 | H29: 24 | I29: 5096 | J29: 712 | K29: 792 | L29: 2555
A30: Keelung First Credit Cooperative
A31: 基隆市第二信用合作社 | B31: 43423 | C31: 0 | D31: 0 | E31: 212 | F31: 39564 | H31: 357 | I31: 3291 | J31: 925 | K31: 252 | L31: 2077
A32: The Second Credit Cooperative of Keelung
A33: 淡水第一信用合作社 | B33: 118611 | C33: 0 | D33: 0 | E33: 440 | F33: 110777 | H33: 15 | I33: 7379 | J33: 1284 | K33: 46 | L33: 4953
A34: The Tamshui First Credit Cooperative Bank
A35: 資料來源：金融機構申報資料（自結數）。

Sheet 10-1(續十八)
A1: 10-1 金融機構資產負債簡表（續十八）
A2: 10-1 Abridged Balance Sheet（Cont.18）
A3: （5）信用合作社 Credit Cooperatives
C4: ='10-1(續八)'!C4:D4 -> 民國115年 7月底 | E4: ='10-1(續八)'!E4:G4 -> End of July 2026 | L4: 單位：新臺幣百萬元 NT$ Million
A5: 資產別 | B5: 資產總額 | C5: 現金及 約當現金 | D5: 存放央行及 拆借銀行同業 | E5: 透過損益按公允價值衡量之金融資產 | F5: 附賣回票券及債券投資 | G5: 應收 款項 | H5: 貼現及 放款 | I5: 備供出售 金融資產 | J5: 持有至到期日金融資產 | K5: 不動產 | L5: 其他 資產
A6: by Asset | K6: 及設備
I7: Available-for-Sale Financial Assets | J7: Held-to-maturity Financial assets
A8: 信合社別 by Credit Cooperative | B8: Total Assets | C8: Cash and Alike Equivalent Cash | D8: Deposits with CBC & Claims on Other Banks | E8: Financial Assets at Fair Value through Profit or Loss | F8: Securities Purchased under R/S | G8: Amounts Receivable | H8: Discount and Loans | K8: Property and Equipment | L8: Other Assets
A10: 新北市淡水信用合作社 | B10: 28892 | C10: 6803 | D10: 1217 | E10: 0 | F10: 349 | G10: 59 | H10: 19941 | I10: 102 | J10: 0 | K10: 138 | L10: 283
A11: The Tamsui Credit Cooperative
A12: 宜蘭信用合作社 | B12: 17050 | C12: 4224 | D12: 743 | E12: 0 | F12: 0 | G12: 21 | H12: 11600 | I12: 76 | J12: 2 | K12: 237 | L12: 146
A13: The Credit Cooperative of I-Lan
A14: 桃園信用合作社 | B14: 23455 | C14: 6685 | D14: 642 | E14: 0 | F14: 0 | G14: 26 | H14: 14823 | I14: 667 | J14: 0 | K14: 360 | L14: 250
A15: The Credit Cooperative of Taoyuan
A16: 新竹第一信用合作社 | B16: 89615 | C16: 27220 | D16: 3673 | E16: 0 | F16: 0 | G16: 119 | H16: 55561 | I16: 1151 | J16: 2600 | K16: 562 | L16: -1271
A17: The First Credit Cooperative of Hsin-Chu
A18: 新竹第三信用合作社 | B18: 40318 | C18: 8509 | D18: 1682 | E18: 0 | F18: 0 | G18: 45 | H18: 29341 | I18: 159 | J18: 200 | K18: 629 | L18: -246
A19: The Third Credit Cooperative of Hsin Chu
A21: 負債及股東權益 | B21: 負債及 權益 | C21: 央行、銀行同業存款及融資 | D21: 附買回票券 及債券負債 | E21: 應付款項 | F21: 存款及匯款 | H21: 其他 負債 | I21: 權益 Equities
A22: Liabilities & Equities | J22: 股 金 | K22: 資本公積 | L22: 保留盈餘
A23: 信合社別 by Credit Cooperative | B23: Liabilities & Equities | C23: Due to the CBC & Other Banks | D23: Securities Sold under R/P | E23: Amounts Payable | F23: Deposits and Remittances | H23: Other Liabilities | J23: Capital Stock | K23: Reserve Fund | L23: Retained Earnings
A25: 新北市淡水信用合作社 | B25: 28892 | C25: 0 | D25: 0 | E25: 79 | F25: 26630 | H25: 42 | I25: 2142 | J25: 688 | K25: 40 | L25: 1409
A26: The Tamsui Credit Cooperative
A27: 宜蘭信用合作社 | B27: 17050 | C27: 0 | D27: 0 | E27: 45 | F27: 15866 | H27: 16 | I27: 1123 | J27: 659 | K27: 13 | L27: 428
A28: The Credit Cooperative of I-Lan
A29: 桃園信用合作社 | B29: 23455 | C29: 0 | D29: 0 | E29: 82 | F29: 20656 | H29: 72 | I29: 2644 | J29: 720 | K29: 9 | L29: 1481
A30: The Credit Cooperative of Taoyuan
A31: 新竹第一信用合作社 | B31: 89615 | C31: 0 | D31: 0 | E31: 272 | F31: 82527 | H31: 82 | I31: 6734 | J31: 1178 | K31: 102 | L31: 4477
A32: The First Credit Cooperative of Hsin-Chu
A33: 新竹第三信用合作社 | B33: 40318 | C33: 0 | D33: 0 | E33: 121 | F33: 37366 | H33: 26 | I33: 2804 | J33: 957 | K33: 31 | L33: 1720
A34: The Third Credit Cooperative of Hsin Chu
A35: Source：Provided by individual institution.

Sheet 10-1(續十九)
A1: 10-1 金融機構資產負債簡表（續十九）
A2: 10-1 Abridged Balance Sheet（Cont.19）
A3: （5）信用合作社 Credit Cooperatives
C4: ='10-1(續八)'!C4:D4 -> 民國115年 7月底 | E4: ='10-1(續八)'!E4:G4 -> End of July 2026 | L4: 單位：新臺幣百萬元 NT$ Million
A5: 資產別 | B5: 資產總額 | C5: 現金及 約當現金 | D5: 存放央行及 拆借銀行同業 | E5: 透過損益按公允價值衡量之金融資產 | F5: 附賣回票券及債券投資 | G5: 應收 款項 | H5: 貼現及 放款 | I5: 備供出售 金融資產 | J5: 持有至到期日金融資產 | K5: 不動產 | L5: 其他 資產
A6: by Asset | K6: 及設備
I7: Available-for-Sale Financial Assets | J7: Held-to-maturity Financial assets
A8: 信合社別 by Credit Cooperative | B8: Total Assets | C8: Cash and Alike Equivalent Cash | D8: Deposits with CBC & Claims on Other Banks | E8: Financial Assets at Fair Value through Profit or Loss | F8: Securities Purchased under R/S | G8: Amounts Receivable | H8: Discount and Loans | K8: Property and Equipment | L8: Other Assets
A10: 台中市第二信用合作社 | B10: 121287 | C10: 19780 | D10: 6032 | E10: 0 | F10: 0 | G10: 132 | H10: 91043 | I10: 505 | J10: 0 | K10: 1522 | L10: 2272
A11: The Second Credit Cooperative of Taichung
A12: 彰化第一信用合作社 | B12: 21535 | C12: 4431 | D12: 775 | E12: 0 | F12: 0 | G12: 27 | H12: 14335 | I12: 410 | J12: 0 | K12: 447 | L12: 1110
A13: The First Credit Cooperative of Changhua
A14: 彰化第五信用合作社 | B14: 18164 | C14: 3346 | D14: 978 | E14: 0 | F14: 0 | G14: 24 | H14: 12177 | I14: 294 | J14: 670 | K14: 528 | L14: 147
A15: The Fifth Credit Cooperative of Changhua
A16: 彰化第六信用合作社 | B16: 43044 | C16: 6971 | D16: 2094 | E16: 0 | F16: 0 | G16: 63 | H16: 32117 | I16: 223 | J16: 0 | K16: 982 | L16: 594
A17: The Sixth Credit Cooperative of Chunghua
A18: 彰化第十信用合作社 | B18: 19384 | C18: 6762 | D18: 845 | E18: 0 | F18: 798 | G18: 19 | H18: 10474 | I18: 260 | J18: 0 | K18: 182 | L18: 42
A19: The Tenth Credit Cooperative of Changhua
A21: 負債及股東權益 | B21: 負債及 權益 | C21: 央行、銀行同業存款及融資 | D21: 附買回票券 及債券負債 | E21: 應付款項 | F21: 存款及匯款 | H21: 其他 負債 | I21: 權益 Equities
A22: Liabilities & Equities | J22: 股 金 | K22: 資本公積 | L22: 保留盈餘
A23: 信合社別 by Credit Cooperative | B23: Liabilities & Equities | C23: Due to the CBC & Other Banks | D23: Securities Sold under R/P | E23: Amounts Payable | F23: Deposits and Remittances | H23: Other Liabilities | J23: Capital Stock | K23: Reserve Fund | L23: Retained Earnings
A25: 台中市第二信用合作社 | B25: 121287 | C25: 5 | D25: 0 | E25: 302 | F25: 112629 | H25: 743 | I25: 7609 | J25: 1914 | K25: 1717 | L25: 3560
A26: The Second Credit Cooperative of Taichung
A27: 彰化第一信用合作社 | B27: 21535 | C27: 0 | D27: 0 | E27: 96 | F27: 19117 | H27: 461 | I27: 1862 | J27: 365 | K27: 116 | L27: 1046
A28: The First Credit Cooperative of Changhua
A29: 彰化第五信用合作社 | B29: 18164 | C29: 0 | D29: 0 | E29: 53 | F29: 16861 | H29: 28 | I29: 1221 | J29: 195 | K29: 10 | L29: 830
A30: The Fifth Credit Cooperative of Changhua
A31: 彰化第六信用合作社 | B31: 43044 | C31: 0 | D31: 0 | E31: 206 | F31: 39030 | H31: 33 | I31: 3775 | J31: 493 | K31: 158 | L31: 2975
A32: The Sixth Credit Cooperative of Chunghua
A33: 彰化第十信用合作社 | B33: 19384 | C33: 0 | D33: 0 | E33: 76 | F33: 17598 | H33: 24 | I33: 1687 | J33: 133 | K33: 39 | L33: 1318
A34: The Tenth Credit Cooperative of Changhua

Sheet 10-1(續二十)
A1: 10-1 金融機構資產負債簡表（續二十）
A2: 10-1 Abridged Balance Sheet（Cont.20）
A3: （5）信用合作社 Credit Cooperatives
